BEGIN:VCALENDAR
VERSION:2.0
PRODID:-//ChamberMaster//Event Calendar 2.0//EN
METHOD:PUBLISH
X-PUBLISHED-TTL:P3D
REFRESH-INTERVAL:P3D
CALSCALE:GREGORIAN
BEGIN:VEVENT
DTSTART:20230602T203000Z
DTEND:20230602T223000Z
X-MICROSOFT-CDO-ALLDAYEVENT:FALSE
SUMMARY:NKY Chamber and the African American Chamber Present: First Fridays
DESCRIPTION:First Friday is an invite-only event geared towards minority business executives e.g.\, business owners and select corporate professionals. The premise to is create an event where this select community of individuals have a place to convene\, relax\, fellowship\, network\, and enjoy the company of other minority executives in the NKY and Cincinnati metro area.  Our intention is to have these events on the First Friday of every quarter.  The location of the events will move around between NKY and Cincinnati so we can experience the best that our metroplex has to offer.  \n\nLocation\n\nDead Low Brewing Company\n\n5959 Kellogg Avenue\n\nCincinnati\, OH 45230\n\nRiverfront Room (located downstairs\, entrance under patio via the parking lot)
X-ALT-DESC;FMTTYPE=text/html:<p>First Friday&nbsp\;is an invite-only event geared towards minority business executives e.g.\, business owners and select corporate professionals. The premise to is create an event where this select community of individuals have a place to convene\, relax\, fellowship\, network\, and enjoy the company of other minority executives in the NKY and Cincinnati metro area. &nbsp\;Our intention is to have these events on the First Friday of every quarter.&nbsp\; The location of the events will move around between NKY and Cincinnati so we can experience the best that our metroplex has to offer.&nbsp\;&nbsp\;</p>\n\n<p>Location</p>\n\n<p>Dead Low Brewing Company<br />\n5959 Kellogg Avenue<br />\nCincinnati\, OH 45230</p>\n\n<p>Riverfront Room (located downstairs\, entrance under patio via the parking lot)</p>\n
LOCATION:Dead Low Brewing Company 5959 Kellogg Avenue Cincinnati\, OH 45230
UID:e.818.18840
SEQUENCE:3
DTSTAMP:20260421T085718Z
URL:https://business.hispanicchambercincinnati.com/events/details/nky-chamber-and-the-african-american-chamber-present-first-fridays-18840
END:VEVENT

END:VCALENDAR
