BEGIN:VCALENDAR
VERSION:2.0
PRODID:-//ChamberMaster//Event Calendar 2.0//EN
METHOD:PUBLISH
X-PUBLISHED-TTL:P3D
REFRESH-INTERVAL:P3D
CALSCALE:GREGORIAN
BEGIN:VEVENT
DTSTART:20221002T140000Z
DTEND:20221002T220000Z
X-MICROSOFT-CDO-ALLDAYEVENT:FALSE
SUMMARY:North Star Festival
DESCRIPTION:This northern Over-the-Rhine street festival will take place on Findlay Street between Race Street and McMicken Avenue. Come to celebrate local artisans\, businesses and community history. During the festival: \n\n\n	Enjoy a selection of beer from Northern Row (all profits will benefit the Over-the-Rhine Museum!)\n	Visit local food vendor Essen Kitchen\n	At 1:00pm\, attend a "Three Asks of Over-the-Rhine" program where attendees can ask three historians questions about the neighborhood's history\n	At 2:00pm\, see the unveiling of a new Over-the-Rhine Museum exhibition in the recently uncovered windows of our building at 3 West McMicken Avenue \n	Meet Polly Campbell\, former restaurant critic and food writer for the Enquirer. Polly will be signing her new book  "Cincinnati Food: A History of Queen City Food"\n	Check out our festival partner and neighbor: The Orbit Room\, a friendly neighborhood jazz bar!\n	Receive handmade mementos created by printing press by the Type & Print Museum\n	Record your memories of Over-the-Rhine with the Over-the-Rhine Museum's Oral History Coordinator\n\n\n\n\nWe are still accepting vendors at https://www.otrmuseum.org/store/vendor-space\n\nNonprofits can reserve a booth space at no cost by contacting Donna at donna.harris@otrmuseum.org
X-ALT-DESC;FMTTYPE=text/html:<div>\n<div>This northern Over-the-Rhine street festival will take place on Findlay Street between Race Street and McMicken Avenue. Come to celebrate local artisans\, businesses and community history. During the festival:&nbsp\;</div>\n\n<ul>\n	<li>Enjoy&nbsp\;a selection of beer from Northern Row (all profits will benefit the Over-the-Rhine Museum!)</li>\n	<li>Visit local food vendor Essen Kitchen</li>\n	<li>At 1:00pm\, attend a &quot\;Three Asks of Over-the-Rhine&quot\; program where attendees can ask three historians questions about the neighborhood&#39\;s&nbsp\;history</li>\n	<li>At 2:00pm\, see the unveiling of a new Over-the-Rhine Museum exhibition in the recently uncovered windows of our building at 3 West McMicken Avenue&nbsp\;</li>\n	<li>Meet Polly Campbell\, former restaurant critic and food writer for the Enquirer. Polly will be signing her new book&nbsp\; &quot\;Cincinnati Food: A History of Queen City Food&quot\;</li>\n	<li>Check out our festival partner and neighbor: The Orbit Room\, a friendly neighborhood jazz bar!</li>\n	<li>Receive handmade mementos created by printing press by the Type &amp\; Print Museum</li>\n	<li>Record your memories of Over-the-Rhine with the Over-the-Rhine Museum&rsquo\;s Oral History Coordinator</li>\n</ul>\n\n<div dir="ltr">\n<div>\n<div>We are still accepting vendors at&nbsp\;<a data-saferedirecturl="https://www.google.com/url?q=https://www.otrmuseum.org/store/vendor-space&amp\;source=gmail&amp\;ust=1663767302840000&amp\;usg=AOvVaw0nPeDiNdz4EWH48tNuChaK" href="https://www.otrmuseum.org/store/vendor-space" target="_blank">https://www.otrmuseum.org/<wbr />store/vendor-space</a></div>\n\n<div>Nonprofits can reserve a booth space at no cost by contacting Donna at&nbsp\;<a href="mailto:donna.harris@otrmuseum.org" target="_blank">donna.harris@otrmuseum.org</a></div>\n</div>\n</div>\n</div>\n
LOCATION:Findlay Street between Race Street and McMicken AvenueCincinnati\, OH (map)
UID:e.818.18132
SEQUENCE:3
DTSTAMP:20260421T234359Z
URL:https://business.hispanicchambercincinnati.com/events/details/north-star-festival-18132
END:VEVENT

END:VCALENDAR
