BEGIN:VCALENDAR
VERSION:2.0
PRODID:-//ChamberMaster//Event Calendar 2.0//EN
METHOD:PUBLISH
X-PUBLISHED-TTL:P3D
REFRESH-INTERVAL:P3D
CALSCALE:GREGORIAN
BEGIN:VEVENT
DTSTART:20230603T163000Z
DTEND:20230603T193000Z
X-MICROSOFT-CDO-ALLDAYEVENT:FALSE
SUMMARY:Northern Kentucky Culture Day
DESCRIPTION:This multicultural event will highlight and celebrate the diversity and culture of our immigrant community in Northern Kentucky by sharing their foods\, art\, music\, and overall culture.
X-ALT-DESC;FMTTYPE=text/html:This multicultural event will highlight and celebrate the diversity and culture of our immigrant community in Northern Kentucky by sharing their foods\, art\, music\, and overall culture.
LOCATION:Boone County High School. 7056 Burlington Pike Florence\, KY 41042
UID:e.818.18829
SEQUENCE:3
DTSTAMP:20260421T085403Z
URL:https://business.hispanicchambercincinnati.com/events/details/northern-kentucky-culture-day-18829
END:VEVENT

END:VCALENDAR
