BEGIN:VCALENDAR
VERSION:2.0
PRODID:-//ChamberMaster//Event Calendar 2.0//EN
METHOD:PUBLISH
X-PUBLISHED-TTL:P3D
REFRESH-INTERVAL:P3D
CALSCALE:GREGORIAN
BEGIN:VEVENT
DTSTART:20250507T140000Z
DTEND:20250507T200000Z
X-MICROSOFT-CDO-ALLDAYEVENT:FALSE
SUMMARY:Ohio Small Business Opportunity Expo
DESCRIPTION:An opportunity for Ohio small businesses to connect with state and local agencies and private sector organizations.\n\n\n\n\n\n\nWednesday\, May 7\, 2025   |    10 a.m. to 4 p.m.\n\nGreater Columbus Convention Center\n\n400 N. High St\, Columbus\, OH 43215\n\nOhio Small Business Opportunity Expo will help small businesses increase their capacity to do business with the government and prime contractors in the transportation and construction industries. Attendees will have the chance to visit vendor booths\, attend workshops\, a luncheon\, hear from a keynote speaker\, see an awards presentation\, and gain valuable insights from successful small businesses doing business with the government.
X-ALT-DESC;FMTTYPE=text/html:<section>\n<header id="odx-content-header">\n<div>An opportunity for Ohio small businesses to connect with state and local agencies and private sector organizations.</div>\n</header>\n</section>\n\n<section id="js-odx-content__body">\n<div dir="ltr">\n<div>\n<p>Wednesday\, May 7\, 2025&nbsp\; &nbsp\;|&nbsp\; &nbsp\; 10 a.m. to 4&nbsp\;p.m.<br />\nGreater Columbus Convention Center<br />\n400&nbsp\;N. High St\, Columbus\, OH 43215</p>\n\n<p>Ohio Small Business Opportunity Expo will help small businesses increase their capacity to do business with the government and prime contractors in the transportation and construction industries. Attendees will have the chance to visit vendor booths\, attend workshops\, a luncheon\, hear from a keynote speaker\, see an awards presentation\, and gain valuable insights from successful small businesses doing business with the government.</p>\n</div>\n</div>\n</section>\n
LOCATION:Greater Columbus Convention Center 400 N. High St\, Columbus\, OH 43215
UID:e.818.21383
SEQUENCE:3
DTSTAMP:20260424T163409Z
URL:https://business.hispanicchambercincinnati.com/events/details/ohio-small-business-opportunity-expo-21383
END:VEVENT

END:VCALENDAR
