BEGIN:VCALENDAR
VERSION:2.0
PRODID:-//ChamberMaster//Event Calendar 2.0//EN
METHOD:PUBLISH
X-PUBLISHED-TTL:P3D
REFRESH-INTERVAL:P3D
CALSCALE:GREGORIAN
BEGIN:VEVENT
DTSTART:20250302T003000Z
DTEND:20250302T020000Z
X-MICROSOFT-CDO-ALLDAYEVENT:FALSE
SUMMARY:Paul Robeson & The Douglass-Lincoln Debates
DESCRIPTION:Join us for two new one-act plays from the Cincinnati Black Theatre Company.\n\n\n\nPaul Robeson by Phillip Hayes Dean chronicles Robeson's life from his New Jersey childhood to international stardom as a singer\, actor and Civil Rights icon. James Earl Jones originated the role in the play's Broadway premiere. Former Cincinnati City Councilman Wendell Young portrays Robeson for the Cincinnati Black Theatre Company production.\n\nThe Douglass-Lincoln Debates by Douglas D. Miron is based on historical meetings of celebrated orator\, author and abolitionist Frederick Douglass and President Abraham Lincoln. North Carolina native and actor Steffon Sharpless plays Frederick Douglass and Virginia native and playwright Doug Miron plays Abraham Lincoln.\n\n\n\n\n\n\n\nGET TICKETS\n\n\n\n\n\n\n\nIf you need accommodations or have any questions about our accessibility resources\, please contact us in advance at accessible@nurfc.org.
X-ALT-DESC;FMTTYPE=text/html:<div data-index="7" id="panel-5481-2-0-0">\n<div>\n<div>\n<div>\n<p>Join us for two new one-act plays from the Cincinnati Black Theatre Company.<br />\n<br />\nPaul Robeson&nbsp\;by Phillip Hayes Dean chronicles Robeson&#39\;s life from his New Jersey childhood to international stardom as a singer\, actor and Civil Rights icon. James Earl Jones originated the role in the play&#39\;s Broadway premiere. Former Cincinnati City Councilman Wendell Young portrays Robeson for the Cincinnati Black Theatre Company production.</p>\n\n<p>The Douglass-Lincoln Debates&nbsp\;by Douglas D. Miron is based on historical meetings of celebrated orator\, author and abolitionist Frederick Douglass and President Abraham Lincoln. North Carolina native and actor Steffon Sharpless plays Frederick Douglass and Virginia native and playwright Doug Miron plays Abraham Lincoln.</p>\n</div>\n</div>\n</div>\n</div>\n\n<div data-index="8" id="panel-5481-2-0-1">\n<div>\n<div><a href="https://cincinnatiblacktheatre.org/ticket-info/17">GET TICKETS</a></div>\n</div>\n</div>\n\n<div data-index="9" id="panel-5481-2-0-2">\n<div>\n<div>\n<div>\n<p data-pm-slice="1 1 []">If you need accommodations or have any questions about our accessibility resources\, please contact us in advance at&nbsp\;<a href="mailto:accessible@nurfc.org">accessible@nurfc.org</a>.</p>\n</div>\n</div>\n</div>\n</div>\n
LOCATION:Harriet Tubman Theater
UID:e.818.21076
SEQUENCE:3
DTSTAMP:20260423T125003Z
URL:https://business.hispanicchambercincinnati.com/events/details/paul-robeson-the-douglass-lincoln-debates-21076
END:VEVENT

END:VCALENDAR
