BEGIN:VCALENDAR
VERSION:2.0
PRODID:-//ChamberMaster//Event Calendar 2.0//EN
METHOD:PUBLISH
X-PUBLISHED-TTL:P3D
REFRESH-INTERVAL:P3D
CALSCALE:GREGORIAN
BEGIN:VEVENT
DTSTART:20250301T003000Z
DTEND:20250301T023000Z
X-MICROSOFT-CDO-ALLDAYEVENT:FALSE
SUMMARY:Paul Robeson & The Douglass-Lincoln Debates
DESCRIPTION:Join us for two new one-act plays from the Cincinnati Black Theatre Company.\n\nPaul Robeson stars former Cincinnati City Councilmember Wendell Young as Robeson. With Robeson's signature "Ol' Man River\," "Swing Low\, Sweet Chariot" and other spirituals\, the play chronicles his early life and career as he uses cheerful defiance\, sly humor and unflagging courage to overcome racism as one of the first Black students at Rutgers University and the first on the football team. Robeson reminisces about his struggle to live life on his own terms\, his singing and acting talents ensuring his star potential when he's cast in Eugene O'Neill's play All God's Chillun Got Wings.\n\nThe Douglass-Lincoln Debates by Douglas D. Miron stars Steffon Sharpless as author-activist publisher\, abolitionist leader and formerly enslaved Frederick Douglass\; playwright Miron portrays President Abraham Lincoln in this inspirational fact-based historical drama about the three face-to-face meetings of these noble leaders who inspired Americans during the darkest days of the Civil War and who\, despite their differences\, worked together for the good of all Americans and to save our nation.
X-ALT-DESC;FMTTYPE=text/html:<p>Join us for two new one-act plays from the Cincinnati Black Theatre Company.</p>\n\n<p>Paul Robeson&nbsp\;stars former Cincinnati City Councilmember Wendell Young as Robeson. With Robeson&#39\;s signature &quot\;Ol&#39\; Man River\,&quot\; &quot\;Swing Low\, Sweet Chariot&quot\; and other spirituals\, the play chronicles his early life and career as he uses cheerful defiance\, sly humor and unflagging courage to overcome racism as one of the first Black students at Rutgers University and the first on the football team. Robeson reminisces about his struggle to live life on his own terms\, his singing and acting talents ensuring his star potential when he&#39\;s cast in Eugene O&#39\;Neill&#39\;s play&nbsp\;All God&#39\;s Chillun Got Wings.</p>\n\n<p>The Douglass-Lincoln Debates&nbsp\;by Douglas D. Miron stars Steffon Sharpless as author-activist publisher\, abolitionist leader and formerly enslaved Frederick Douglass\; playwright Miron portrays President Abraham Lincoln in this inspirational fact-based historical drama about the three face-to-face meetings of these noble leaders who inspired Americans during the darkest days of the Civil War and who\, despite their differences\, worked together for the good of all Americans and to save our nation.</p>\n
LOCATION:Harriet Tubman Theater
UID:e.818.21245
SEQUENCE:3
DTSTAMP:20260426T012900Z
URL:https://business.hispanicchambercincinnati.com/events/details/paul-robeson-the-douglass-lincoln-debates-21245
END:VEVENT

END:VCALENDAR
