BEGIN:VCALENDAR
VERSION:2.0
PRODID:-//ChamberMaster//Event Calendar 2.0//EN
METHOD:PUBLISH
X-PUBLISHED-TTL:P3D
REFRESH-INTERVAL:P3D
CALSCALE:GREGORIAN
BEGIN:VEVENT
DTSTART:20230509T180000Z
DTEND:20230509T190000Z
X-MICROSOFT-CDO-ALLDAYEVENT:FALSE
SUMMARY:Resume Builder Workshop
DESCRIPTION:Join us to learn how to create and improve your resume.\n\n \n\nWe would like to invite job seekers to our upcoming Resume Builder Workshop virtual event via Zoom on May 9th at 2 pm EST\, where our focus will be on ways to help job seekers create or improve their resumes while giving tips for applying to positions. \n\n\n\nOur talent experts will help provide resume tips pertaining to:\n\n\n	Veterans\n	Justice Impacted\n	Early Talent\n	Skilled Professionals\n\n\nClick here to register
X-ALT-DESC;FMTTYPE=text/html:Join us to learn how to create and&nbsp\;improve your resume.<br />\n&nbsp\;\n<div>\n<div>We would like to invite job seekers to our upcoming&nbsp\;Resume Builder Workshop virtual event via Zoom on May 9th at 2 pm EST\, where our focus will be on ways to help job seekers create or improve their resumes while giving tips for applying to positions.&nbsp\;</div>\n\n<div><br />\nOur talent experts will help provide resume tips pertaining to:</div>\n\n<ul type="disc">\n	<li>Veterans</li>\n	<li>Justice Impacted</li>\n	<li>Early Talent</li>\n	<li>Skilled Professionals</li>\n</ul>\n</div>\n<a href="https://us02web.zoom.us/meeting/register/tZUoc-iqqjoiEtGG38IlRJ76uN-ZzuNpDgbc#/registration">Click here to register</a><br />\n<br />\n&nbsp\;
LOCATION:Zoom
UID:e.818.18775
SEQUENCE:3
DTSTAMP:20260421T091558Z
URL:https://business.hispanicchambercincinnati.com/events/details/resume-builder-workshop-18775
END:VEVENT

END:VCALENDAR
