BEGIN:VCALENDAR
VERSION:2.0
PRODID:-//ChamberMaster//Event Calendar 2.0//EN
METHOD:PUBLISH
X-PUBLISHED-TTL:P3D
REFRESH-INTERVAL:P3D
CALSCALE:GREGORIAN
BEGIN:VEVENT
DTSTART:20221118T220000Z
DTEND:20221119T020000Z
X-MICROSOFT-CDO-ALLDAYEVENT:FALSE
SUMMARY:Rosemary’s Babies Company 6th Annual Legends Showcase & Benefit Gala
DESCRIPTION:Please join Rosemary's Babies Company for our 6th annual Legend's Showcase & Benefit Gala as we lift up fathers.\n\n\n\nA Sneaker Gala with Performances by The Manhattans featuring Gerald Alston\n\n\n\nOUR STORY\n\nRosemary's Babies Company was birthed by founder Rosemary Oglesby-Henry in 2016. RBC provides a safe space\, education\, and financial support for teen parents (9-19) & families in Ohio\, Kentucky\, & Indiana.\n\nWe now serve 200+ families a year with your support.\n\n\n\nNovember 18\, 2022\n\n\n\nThe Woodward Theater\n\n1404 Main St\n\nCincinnati\, OH 45202\n\n\n\nDoors Open 5:00p EST\n\nEvent begins 6:00p EST\n\n\n\nOur mission is to help teen parents master the concepts of self-\n\nleadership to leave a legacy.
X-ALT-DESC;FMTTYPE=text/html:Please join Rosemary&#39\;s Babies Company for our 6th annual&nbsp\;Legend&#39\;s Showcase &amp\; Benefit Gala as we lift up fathers.<br />\n<br />\nA Sneaker Gala with Performances by&nbsp\;The Manhattans featuring Gerald Alston<br />\n<br />\nOUR STORY<br />\nRosemary&#39\;s Babies Company was&nbsp\;birthed by founder Rosemary&nbsp\;Oglesby-Henry in 2016. RBC&nbsp\;provides a safe space\, education\,&nbsp\;and financial support for teen&nbsp\;parents (9-19) &amp\; families in Ohio\,&nbsp\;Kentucky\, &amp\; Indiana.<br />\nWe now serve 200+ families a&nbsp\;year with your support.<br />\n<br />\nNovember 18\, 2022<br />\n<br />\nThe Woodward Theater<br />\n1404 Main St<br />\nCincinnati\, OH 45202<br />\n<br />\nDoors Open 5:00p EST<br />\nEvent begins 6:00p EST<br />\n<br />\nOur mission is to help teen parents master the concepts of self-<br />\nleadership to leave a legacy.<br />\n&nbsp\;
LOCATION:The Woodward Theater 1404 Main St Cincinnati\, OH 45202
UID:e.818.18007
SEQUENCE:3
DTSTAMP:20260422T012859Z
URL:https://business.hispanicchambercincinnati.com/events/details/rosemary-s-babies-company-6th-annual-legends-showcase-benefit-gala-18007
END:VEVENT

END:VCALENDAR
