BEGIN:VCALENDAR
VERSION:2.0
PRODID:-//ChamberMaster//Event Calendar 2.0//EN
METHOD:PUBLISH
X-PUBLISHED-TTL:P3D
REFRESH-INTERVAL:P3D
CALSCALE:GREGORIAN
BEGIN:VEVENT
DTSTART:20240309T003000Z
DTEND:20240309T020000Z
X-MICROSOFT-CDO-ALLDAYEVENT:FALSE
SUMMARY:Rosie Herrera Dance Theatre presented by Mutual Dance Theatre and the JJCDT
DESCRIPTION:Rosie Herrera Dance Theatre presented by Mutual Dance Theatre and the JJCDT\n\n\n\nUNEXPECTED AND SURREAL: \n\nDANCE THEATRE LIKE WE'VE NEVER PRESENTED BEFORE\n\n\n"...an astonishing dance-theater work that gracefully brought together both spectacle and intimate gesture."\n\n  World Dance Reviews\n\n\n\nSince their discovery in 2009 by American Dance Festival Director Charles Reinhart\, Rosie Herrera Dance Theatre has quickly become a captivating fixture in the contemporary arts scene in Miami. With whirlwind success including sold-out performances\, the visually thrilling company is becoming a force to be reckoned with in the national dance scene.\n\n\n\nKnown for its diverse ensemble that consists of some of Miami's most brilliant performers and creators ranging in genres from theater\, performance art\, opera\, drag\, and contemporary ballet\, RHDT has enjoyed unprecedented success in Miami. In addition\, performances in New York City were said to be "so innovative\, searing and disturbing " that it warranted "repeat viewings" (Kayt MacMaster\, BroadwayWorld.com) and Deborah Jowitt (New York Times) described them as "earthy\, poetic and beyond dada imaginative."\n\nDevotion is the third and final work in a trilogy of dances that use religious iconography as a way to explore themes of love. It is specifically interested in our now-intimate relationship to technology.\n\n\n\nStick around on Friday night or come early Saturday night for a Q&A with the company or deep-dive interview with Ms. Herrera. Dancers are invited to attend a masterclass on Saturday\, as well!\n\n\n\nADVISORY: PARTIAL NUDITY\, HAZE\, AND A SCENE THAT MAY BE DISTURBING FOR YOUNG CHILDREN. DRY ICE USED. \n\nEstimated run time: 50 minutes\n\nCommissioned by the American Dance Festival 2022 with support from the Doris Duke/SHS Foundations Award for New Works.
X-ALT-DESC;FMTTYPE=text/html:<div>\n<div>\n<p>Rosie Herrera Dance Theatre presented by Mutual Dance Theatre and the JJCDT<br />\n<br />\nUNEXPECTED&nbsp\;AND SURREAL:&nbsp\;<br />\nDANCE THEATRE LIKE&nbsp\;WE&#39\;VE NEVER PRESENTED BEFORE</p>\n</div>\n\n<h4>&quot\;...an astonishing dance-theater work that gracefully brought together both spectacle and intimate gesture.&quot\;<br />\n&mdash\; World Dance Reviews</h4>\n\n<div>\n<div>\n<p>Since their discovery in 2009 by American Dance Festival Director Charles Reinhart\, Rosie Herrera Dance Theatre has quickly become a captivating fixture in the contemporary arts scene in Miami. With whirlwind success including sold-out performances\, the visually thrilling company is becoming a force to be reckoned with in the national dance scene.</p>\n</div>\n</div>\n\n<p>Known for its diverse ensemble that consists of some of Miami&rsquo\;s most brilliant performers and creators ranging in genres from theater\, performance art\, opera\, drag\, and contemporary ballet\, RHDT has enjoyed unprecedented success in Miami. In addition\, performances in New York City were said to be &ldquo\;so innovative\, searing and disturbing&hellip\;&rdquo\; that it warranted &ldquo\;repeat viewings&rdquo\; (Kayt MacMaster\, BroadwayWorld.com) and Deborah Jowitt (New York Times) described them as &ldquo\;earthy\, poetic and beyond dada imaginative.&rdquo\;</p>\n\n<p>Devotion&nbsp\;is the third and final work in a trilogy of dances that use religious iconography as a way to explore themes of love. It is specifically interested in our now-intimate relationship to technology.</p>\n</div>\n\n<div>\n<p>Stick around on Friday night or come early Saturday night for a Q&amp\;A with the company or deep-dive interview with Ms. Herrera.&nbsp\;<a href="https://www.mutualdance.org/archive/2023-2024/rhdt/#movewithmutual">Dancers are invited to attend a masterclass on Saturday\, as well!</a></p>\n</div>\n\n<div>\n<p>ADVISORY: PARTIAL NUDITY\, HAZE\, AND A SCENE THAT MAY BE DISTURBING FOR YOUNG CHILDREN. DRY ICE USED.&nbsp\;</p>\n\n<p>Estimated run time: 50 minutes</p>\n\n<p>Commissioned by the American Dance Festival 2022 with support from the Doris Duke/SHS Foundations Award for New Works.</p>\n</div>\n
LOCATION:Jarson-Kaplan Theater
UID:e.818.19826
SEQUENCE:3
DTSTAMP:20260421T143749Z
URL:https://business.hispanicchambercincinnati.com/events/details/rosie-herrera-dance-theatre-presented-by-mutual-dance-theatre-and-the-jjcdt-19826
END:VEVENT

END:VCALENDAR
