BEGIN:VCALENDAR
VERSION:2.0
PRODID:-//ChamberMaster//Event Calendar 2.0//EN
METHOD:PUBLISH
X-PUBLISHED-TTL:P3D
REFRESH-INTERVAL:P3D
CALSCALE:GREGORIAN
BEGIN:VEVENT
DTSTART:20221023T170000Z
DTEND:20221023T200000Z
X-MICROSOFT-CDO-ALLDAYEVENT:FALSE
SUMMARY:Saint Ursula Academy Open House
DESCRIPTION:7th-8th-Grade Girls and Families\n\n \n\nSUA welcomes all 7th and 8th-grade girls and their families to take an in-depth look at all that Saint Ursula Academy has to offer. The welcoming environment will be on full display as students give tours through campus and showcase the unique facilities\, talented teachers\, and endless resources for today's student. Meet teachers and staff\, ask questions\, and meet parent volunteers. \n\n\n\nREGISTER
X-ALT-DESC;FMTTYPE=text/html:<div>7th-8th-Grade Girls and Families<br />\n&nbsp\;</div>\n\n<div>SUA welcomes all 7th and 8th-grade girls and their families to take an in-depth look at all that Saint Ursula Academy has to offer. The welcoming environment will be on full display as students give tours through campus and showcase the unique facilities\, talented teachers\, and endless resources for today&#39\;s student. Meet teachers and staff\, ask questions\, and meet parent volunteers.&nbsp\;<br />\n<br />\n<a fr-original-style="box-sizing: border-box\; background-color: transparent\;  text-decoration: none\;" href="https://saintursulaevents.com/open-house/" rel="noopener noreferrer" target="_blank">REGISTER</a></div>\n
LOCATION:1339 East McMillan Street Cincinnati\, Ohio 45206
UID:e.818.18182
SEQUENCE:3
DTSTAMP:20260421T215418Z
URL:https://business.hispanicchambercincinnati.com/events/details/saint-ursula-academy-open-house-18182
END:VEVENT

END:VCALENDAR
