BEGIN:VCALENDAR
VERSION:2.0
PRODID:-//ChamberMaster//Event Calendar 2.0//EN
METHOD:PUBLISH
X-PUBLISHED-TTL:P3D
REFRESH-INTERVAL:P3D
CALSCALE:GREGORIAN
BEGIN:VEVENT
DTSTART:20250309T190000Z
DTEND:20250309T203000Z
X-MICROSOFT-CDO-ALLDAYEVENT:FALSE
SUMMARY:Sandwiches of History LIVE
DESCRIPTION:As seen on CBS Sunday Morning\, ThisMyShow Presents: "Sandwiches of History: Live!\," a new multimedia show that is part TED-talk\, part comedy\, part sandwich-making extravaganza!\n\nBarry is hitting the road to celebrate the storied history of sandwiches and the release of the "Sandwiches of History: The Cookbook." Each stop will feature special guest stars\, sandwich making and tasting with audience suggested add-ons\, Q&A\, and more surprises!
X-ALT-DESC;FMTTYPE=text/html:<p>As seen on CBS Sunday Morning\, ThisMyShow Presents: &quot\;Sandwiches of History: Live!\,&quot\; a new multimedia show that is part TED-talk\, part comedy\, part sandwich-making extravaganza!</p>\n\n<p>Barry is hitting the road to celebrate the storied history of sandwiches and the release of the &quot\;Sandwiches of History: The Cookbook.&rdquo\; Each stop will feature special guest stars\, sandwich making and tasting with audience suggested add-ons\, Q&amp\;A\, and more surprises!</p>\n
LOCATION:Oscar Event Center 5440 Dixie Highway Fairfield\, OH 45014
UID:e.818.21258
SEQUENCE:3
DTSTAMP:20260423T124450Z
URL:https://business.hispanicchambercincinnati.com/events/details/sandwiches-of-history-live-21258
END:VEVENT

END:VCALENDAR
