BEGIN:VCALENDAR
VERSION:2.0
PRODID:-//ChamberMaster//Event Calendar 2.0//EN
METHOD:PUBLISH
X-PUBLISHED-TTL:P3D
REFRESH-INTERVAL:P3D
CALSCALE:GREGORIAN
BEGIN:VEVENT
DTSTART:20230624T170000Z
DTEND:20230624T200000Z
X-MICROSOFT-CDO-ALLDAYEVENT:FALSE
SUMMARY:Santa Maria's Summer Safety Fest
DESCRIPTION:Join us at the third annual Summer Safety Fest hosted by Santa Maria Community Services\, Inc. on Saturday\, June 24\, 2023\, from 1 to 4 p.m. at Swing Park\, 2122 Hatmaker Street\, Cincinnati\, OH 45204 in Lower Price Hill.\n\n\n\nThis exciting family event aims to bring families together for a day of fun\, education\, and community engagement. Enjoy free food\, music\, and participate in various family-friendly activities. Santa Maria\, along with partner organizations\, will provide valuable resources for attending families.\n\nTogether\, let's address the challenges of violence and substance abuse\, empower our youth\, and create a safer community.\n\n\n\nFor more information about the Summer Safety Fest\, please contact Santa Maria's youth program at (513) 497-0468.
X-ALT-DESC;FMTTYPE=text/html:Join us at the third annual Summer Safety Fest hosted by Santa Maria Community Services\, Inc. on Saturday\, June 24\, 2023\, from 1 to 4 p.m. at Swing Park\, 2122 Hatmaker Street\, Cincinnati\, OH 45204 in Lower Price Hill.<br />\n<br />\nThis exciting family event aims to bring families together for a day of fun\, education\, and community engagement. Enjoy free food\, music\, and participate in various family-friendly activities. Santa Maria\, along with partner organizations\, will provide valuable resources for attending families.<br />\nTogether\, let&#39\;s address the challenges of violence and substance abuse\, empower our youth\, and create a safer community.<br />\n<br />\nFor more information about the Summer Safety Fest\, please contact Santa Maria&rsquo\;s youth program at (513) 497-0468.
LOCATION:Swing Park 2122 Hatmaker St Cincinnati\, OH 45204
UID:e.818.18905
SEQUENCE:3
DTSTAMP:20260421T074216Z
URL:https://business.hispanicchambercincinnati.com/events/details/santa-maria-s-summer-safety-fest-18905
END:VEVENT

END:VCALENDAR
