BEGIN:VCALENDAR
VERSION:2.0
PRODID:-//ChamberMaster//Event Calendar 2.0//EN
METHOD:PUBLISH
X-PUBLISHED-TTL:P3D
REFRESH-INTERVAL:P3D
CALSCALE:GREGORIAN
BEGIN:VEVENT
DTSTART:20230722T143000Z
DTEND:20230722T153000Z
X-MICROSOFT-CDO-ALLDAYEVENT:FALSE
SUMMARY:Serengeti: Journey to the Heart of Africa
DESCRIPTION:Discover the wonder of nature untamed\n\nJoin us on an incredible journey\, through the untouched serenity and untamed wilds of Africa. Where lions roar and wildebeests thunder. Stunning cinematography takes you closer to iconic animals than ever before and proves that the circle of life is timeless.\n\nSee one of the world's greatest environments through the eyes of its inhabitants\, including the youngest members of the animal tribes as they imitate their parents and learn about the mighty roles they'll play in it. Walk with elephants as they lumber across the savanna and survey your kingdom perched atop a rock alongside a cheetah. Watch storm clouds roll across a sprawling landscape and soar across mountains\, volcanoes and rivers.\n\nThrough breathtaking aerial cinematography and drone footage that takes you closer to these animals than ever before\, discover the thriving wilderness of the Serengeti.\n\nSerengeti: Journey to the Heart of Africa is produced by Definition Studios and distributed by K2 Studios.
X-ALT-DESC;FMTTYPE=text/html:<p>Discover the wonder of nature untamed</p>\n\n<p>Join us on an incredible journey\, through the untouched serenity and untamed wilds of Africa. Where lions roar and wildebeests thunder. Stunning cinematography takes you closer to iconic animals than ever before and proves that the circle of life is timeless.</p>\n\n<p>See one of the world&rsquo\;s greatest environments through the eyes of its inhabitants\, including the youngest members of the animal tribes as they imitate their parents and learn about the mighty roles they&rsquo\;ll play in it. Walk with elephants as they lumber across the savanna and survey your kingdom perched atop a rock alongside a cheetah. Watch storm clouds roll across a sprawling landscape and soar across mountains\, volcanoes and rivers.</p>\n\n<p>Through breathtaking aerial cinematography and drone footage that takes you closer to these animals than ever before\, discover the thriving wilderness of the Serengeti.</p>\n\n<p>Serengeti: Journey to the Heart of Africa&nbsp\;is produced by Definition Studios and distributed by K2 Studios.</p>\n
LOCATION:Robert D. Lindner Family OMNIMAX Theater 1301 Western Ave Cincinnati\, OH 45203
UID:e.818.19078
SEQUENCE:3
DTSTAMP:20260421T053559Z
URL:https://business.hispanicchambercincinnati.com/events/details/serengeti-journey-to-the-heart-of-africa-19078
END:VEVENT

END:VCALENDAR
