BEGIN:VCALENDAR
VERSION:2.0
PRODID:-//ChamberMaster//Event Calendar 2.0//EN
METHOD:PUBLISH
X-PUBLISHED-TTL:P3D
REFRESH-INTERVAL:P3D
CALSCALE:GREGORIAN
BEGIN:VEVENT
DTSTART:20220803T140000Z
DTEND:20220803T160000Z
X-MICROSOFT-CDO-ALLDAYEVENT:FALSE
SUMMARY:Share Ohio's Impact on 250 Years of U.S. History
DESCRIPTION:A new state commission to help plan for Ohio's participation in the nation's 250th anniversary in 2026 was launched earlier this year.\n\nA 29-member Ohio Commission for the U.S. Semiquincentennial has been charged with "planning\, encouraging\, developing and coordinating the commemoration of the 250th anniversary of the founding of the United States and the impact of Ohioans on the nation's past\, present\, and future." \n\nThe Commission's Executive Director\, Todd Kleismit\, is hosting a "listening session" to share some information about the work of the Commission and to hear from Ohioans about what they hope to see happen during the lead-up to July 4\, 2026\, the nation's 250th anniversary. \n\n \n\nWhen: 10 a.m. Wednesday\, August 3\, 2022\n\nWhere: Union Terminal\, Reakirt Auditorium\n\nAddress: 1301 Western Avenue\, Cincinnati\, 45203
X-ALT-DESC;FMTTYPE=text/html:<p id="m_3871755206321364251isPasted">A new state commission to help plan for Ohio&rsquo\;s participation in the nation&rsquo\;s 250th anniversary in 2026 was launched earlier this year.</p>\n\n<p>A 29-member Ohio Commission for the U.S. Semiquincentennial has been charged with &ldquo\;planning\, encouraging\, developing and coordinating the commemoration of the 250th anniversary of the founding of the United States and the impact of Ohioans on the nation&rsquo\;s past\, present\, and future.&rdquo\;&nbsp\;</p>\n\n<p>The Commission&rsquo\;s Executive Director\, Todd Kleismit\, is hosting a &ldquo\;listening session&rdquo\; to share some information about the work of the Commission and to hear from Ohioans about what they hope to see happen during the lead-up to July 4\, 2026\, the nation&rsquo\;s 250th anniversary.&nbsp\;<br />\n&nbsp\;</p>\n\n<p>When:&nbsp\;10 a.m. Wednesday\, August 3\, 2022<br />\nWhere:&nbsp\;Union Terminal\, Reakirt Auditorium<br />\nAddress: 1301 Western Avenue\, Cincinnati\, 45203</p>\n
LOCATION:Union Terminal\, Reakirt Auditorium 1301 Western Avenue\, Cincinnati\, 45203
UID:e.818.17921
SEQUENCE:3
DTSTAMP:20260424T112313Z
URL:https://business.hispanicchambercincinnati.com/events/details/share-ohio-s-impact-on-250-years-of-u-s-history-17921
END:VEVENT

END:VCALENDAR
