BEGIN:VCALENDAR
VERSION:2.0
PRODID:-//ChamberMaster//Event Calendar 2.0//EN
METHOD:PUBLISH
X-PUBLISHED-TTL:P3D
REFRESH-INTERVAL:P3D
CALSCALE:GREGORIAN
BEGIN:VEVENT
DTSTART:20230720T220000Z
DTEND:20230720T230000Z
X-MICROSOFT-CDO-ALLDAYEVENT:FALSE
SUMMARY:Signature Talk | Modern Takes
DESCRIPTION:What does it mean to be a modern woman contributing to modern photography?\n\n\n\nHear from local photography experts about their take on the special exhibition Modern Women/Modern Vision: Photography from the Bank of America Collection.\n\n\n\nEvent admission includes the opportunity for attendees to view the special exhibition.\n\n\n\nSpeakers:\n\n	Maureen France\, professor of design at the University of Cincinnati\;\n	Katherine Ryckman Siegwarth\, Executive Director of FotoFocus\;\n	Pepper Stetler\, PhD\, Associate Professor of Art History\, Miami University.\n\nModerated by Tamera Lenz Muente\, Curator.
X-ALT-DESC;FMTTYPE=text/html:What does it mean to be a modern woman contributing to modern photography?<br />\n<br />\nHear from local photography experts about their take on the special exhibition Modern Women/Modern Vision: Photography from the Bank of America Collection.<br />\n<br />\nEvent admission includes the opportunity for attendees to view the special exhibition.<br />\n<br />\nSpeakers:\n<ul>\n	<li>Maureen France\, professor of design at the University of Cincinnati\;</li>\n	<li>Katherine Ryckman Siegwarth\, Executive Director of FotoFocus\;</li>\n	<li>Pepper Stetler\, PhD\, Associate Professor of Art History\, Miami University.</li>\n</ul>\nModerated by Tamera Lenz Muente\, Curator.
LOCATION:Taft Museum of Art 316 Pike St\, Cincinnati\, OH 45202
UID:e.818.18999
SEQUENCE:3
DTSTAMP:20260421T053315Z
URL:https://business.hispanicchambercincinnati.com/events/details/signature-talk-modern-takes-18999
END:VEVENT

END:VCALENDAR
