BEGIN:VCALENDAR
VERSION:2.0
PRODID:-//ChamberMaster//Event Calendar 2.0//EN
METHOD:PUBLISH
X-PUBLISHED-TTL:P3D
REFRESH-INTERVAL:P3D
CALSCALE:GREGORIAN
BEGIN:VEVENT
DTSTART:20250218T200000Z
DTEND:20250218T230000Z
X-MICROSOFT-CDO-ALLDAYEVENT:FALSE
SUMMARY:St. Elizabeth Allied Health Career Fair
DESCRIPTION:Looking for your perfect career match? Join the Valentine's-themed Allied Health Career Fair at the St. Elizabeth Training and Education Center (SETEC)\, located at 3861 Olympic Blvd\, Erlanger\, KY 41018\, from 3:00 p.m. to 6:00 p.m.\, and discover where passion meets profession!\n\nExplore a variety of rewarding roles in fields such as\n\n\n	Phlebotomy/Laboratory\,\n	Radiology\,\n	Pharmacy\,\n	Respiratory\, Athletic Training\,\n	Occupational & Physical Therapy\,\n	and much more.\n\n\nWhether you're interested in hands-on clinical roles or technical specialties\, we're here to help you find sweet success in a career you'll love.
X-ALT-DESC;FMTTYPE=text/html:<p>Looking for your perfect career match? Join the Valentine&rsquo\;s-themed&nbsp\;Allied Health Career Fair&nbsp\;at the&nbsp\;<a href="https://www.stelizabeth.com/care/location/details/SETEC">St. Elizabeth Training and Education Center (SETEC)</a>\,&nbsp\;located at 3861 Olympic Blvd\, Erlanger\, KY 41018\, from&nbsp\;3:00 p.m. to 6:00 p.m.\, and discover where passion meets profession!</p>\n\n<p>Explore a variety of rewarding roles in fields such as</p>\n\n<ul>\n	<li>Phlebotomy/Laboratory\,</li>\n	<li>Radiology\,</li>\n	<li>Pharmacy\,</li>\n	<li>Respiratory\, Athletic Training\,</li>\n	<li>Occupational &amp\; Physical Therapy\,</li>\n	<li>and much more.</li>\n</ul>\n\n<p>Whether you&rsquo\;re interested in hands-on clinical roles or technical specialties\, we&rsquo\;re here to help you find sweet success in a career you&rsquo\;ll love.</p>\n
LOCATION:St. Elizabeth Healthcare Training and Education Center (SETEC) 3861 Olympic Blvd\, Erlanger\, KY 41018
UID:e.818.21165
SEQUENCE:3
DTSTAMP:20260426T012855Z
URL:https://business.hispanicchambercincinnati.com/events/details/st-elizabeth-allied-health-career-fair-21165
END:VEVENT

END:VCALENDAR
