BEGIN:VCALENDAR
VERSION:2.0
PRODID:-//ChamberMaster//Event Calendar 2.0//EN
METHOD:PUBLISH
X-PUBLISHED-TTL:P3D
REFRESH-INTERVAL:P3D
CALSCALE:GREGORIAN
BEGIN:VEVENT
DTSTART:20210909T150000Z
DTEND:20210909T160000Z
X-MICROSOFT-CDO-ALLDAYEVENT:FALSE
SUMMARY:Take Charge of YOUR Business's Risks
DESCRIPTION:How well are you strategically assessing and managing your business's risks? Exactly! Laurence Jones\, President of RiskVersity\, can help!\n\n\nThink risk management is only for large businesses? Think again. Managing business risk is for businesses of all shapes and sizes. While important at any stage\, a company's risk management strategy is increasingly important as a business scales. HCDC's Office of Innovation + Creativity is partnering with Laurence Jones\, Co-Founder and President of RiskVersity to bring you: Taking Charge of Business Risk\, on Thursday\, September 9th from 11 am-noon. This event is virtual and free!\n\n\n\n \n\nWhat We'll Cover\n\nLaurence will share his wealth of knowledge as a business owner and risk management professional. He'll discuss why risk management is critical and provide insights built on RiskVersity's experience serving a variety of companies. You'll learn the four types of risks businesses face\, a process to manage business risk\, and ways you can manage risk. You'll leave the session with a simple framework for identifying\, prioritizing and managing your business's risks.\n\n \n\nThis event is brought to you by HCDC's Office of Innovation + Creativity. HCDC's OIC makes growth easier for proven companies. At the conclusion of the event\, Paul Fisher\, HCDC's Director of Innovation\, will discuss HCDC's Strategic Growth Research program. It's a valuable growth tool with proven results that helps companies increase sales.\n\n \n\nWho Should Attend?\n\nThis event is valuable for all companies\, but ideal for established businesses with at least $500k in annual revenue. Business leaders who can effect change within their organization are ideal attendees. Typical attendees include C-suite leaders\, Board Members\, VPs or Directors\, and Senior Managers.
X-ALT-DESC;FMTTYPE=text/html:<p>How well are you strategically assessing and managing your business&#39\;s risks? Exactly! Laurence Jones\, President of RiskVersity\, can help!</p>\n\n<div>\n<p>Think risk management is only for large businesses? Think again. Managing business risk is for businesses of all shapes and sizes. While important at any stage\, a company&rsquo\;s risk management strategy is increasingly important as a business scales. HCDC&rsquo\;s Office of Innovation + Creativity is partnering with Laurence Jones\, Co-Founder and President of RiskVersity to bring you: Taking Charge of Business Risk\, on Thursday\, September 9th from 11 am-noon. This event is virtual and free!</p>\n\n<div data-automation="about-this-event-sc">\n<div>\n<p>&nbsp\;</p>\n\n<p>What We&#39\;ll Cover</p>\n\n<p>Laurence will share his wealth of knowledge as a business owner and risk management professional. He&rsquo\;ll discuss why risk management is critical and provide insights built on RiskVersity&rsquo\;s experience serving a variety of companies. You&rsquo\;ll learn the four types of risks businesses face\, a process to manage business risk\, and ways you can manage risk. You&rsquo\;ll leave the session with a simple framework for identifying\, prioritizing and managing your business&rsquo\;s risks.</p>\n\n<p>&nbsp\;</p>\n\n<p>This event is brought to you by HCDC&rsquo\;s Office of Innovation + Creativity. HCDC&rsquo\;s OIC makes growth easier for proven companies. At the conclusion of the event\, Paul Fisher\, HCDC&rsquo\;s Director of Innovation\, will discuss HCDC&rsquo\;s Strategic Growth Research program. It&rsquo\;s a valuable growth tool with proven results that helps companies increase sales.</p>\n\n<p>&nbsp\;</p>\n\n<p>Who Should Attend?</p>\n\n<p>This event is valuable for all companies\, but ideal for established businesses with at least $500k in annual revenue. Business leaders who can effect change within their organization are ideal attendees. Typical attendees include C-suite leaders\, Board Members\, VPs or Directors\, and Senior Managers.</p>\n</div>\n</div>\n</div>\n
LOCATION:Online Event
UID:e.818.17530
SEQUENCE:3
DTSTAMP:20260421T085214Z
URL:https://business.hispanicchambercincinnati.com/events/details/take-charge-of-your-business-s-risks-17530
END:VEVENT

END:VCALENDAR
