BEGIN:VCALENDAR
VERSION:2.0
PRODID:-//ChamberMaster//Event Calendar 2.0//EN
METHOD:PUBLISH
X-PUBLISHED-TTL:P3D
REFRESH-INTERVAL:P3D
CALSCALE:GREGORIAN
BEGIN:VEVENT
DTSTART:20220806T233000Z
DTEND:20220807T010000Z
X-MICROSOFT-CDO-ALLDAYEVENT:FALSE
SUMMARY:Tales of Two Countries
DESCRIPTION:Prelude Talk: 6:45pm | SCPA Mayerson Theater\n\nEckart Preu\, conductor\n\n\n\n\nEnjoy a rhythmic musical tour of Peru and Argentina   all new to the ears of CCO audiences. The colors of Gabriela Lena Frank's Eleg a Andina (Andean Elegy) immediately summon the sounds of the Peruvian rain forest. Astor Piazzolla's name is intertwined with the tango   not only as a composer\, but as a player of the bandoneon. Bandoneon virtuoso Hector Del Curto\, the 2019 Grammy Award winner for Best Latin Jazz Album\, will be featured on a work by the national hero himself\, Astor Piazzolla. Fernanda Ghi and Silvio Grand\, legends in the world of Argentine tango\, will bring the music to life.\n\nEckart Preu\, conductor\n\nHector Del Curto\, bandoneon\n\nFernanda Ghi and Silvio Grand\, tango dancers\n\nGABRIELA LENA FRANK: Eleg a Andina for Orchestra (CCO Premiere) | More Info | YouTube\n\nASTOR PIAZZOLLA\, arr. IAIN FARRINGTON: Three Tangos (CCO Premiere) \n\nTango del Diablo\, Romance del Diablo\, Vayamos al Diablo\n\nOSVALDO GOLIJOV: Last Round (CCO Premiere) | More Info | YouTube\n\n   I. Movement Movido\, urgente\, II. Murtes Del Angel (Deaths of the Angel)\n\nASTOR PIAZZOLLA (Edizione Curci): Bandoneon Concerto "Aconcagua" (CCO Premiere) | More Info | YouTube\n\n   I. Allegro Marcato\, II. Moderato\, III. Presto\n\nApproximately 1 hour and 30 minutes with a 15-minute intermission\n\nWine will be available for purchase\n\n\n\nThe 2022 Summermusik festival is presented by Chavez Properties.
X-ALT-DESC;FMTTYPE=text/html:<div>\n<p>Prelude Talk: 6:45pm | SCPA Mayerson Theater<br />\nEckart Preu\, conductor</p>\n</div>\n\n<div>\n<div>\n<p>Enjoy a rhythmic musical tour of Peru and Argentina &ndash\; all new to the ears of CCO audiences. The colors of Gabriela Lena Frank&rsquo\;s Eleg&iacute\;a Andina (Andean Elegy) immediately summon the sounds of the Peruvian rain forest. Astor Piazzolla&rsquo\;s name is intertwined with the tango &ndash\; not only as a composer\, but as a player of the bandoneon. Bandoneon virtuoso Hector Del Curto\, the 2019 Grammy Award winner for Best Latin Jazz Album\, will be featured on a work by the national hero himself\, Astor Piazzolla. Fernanda Ghi and Silvio Grand\, legends in the world of Argentine tango\, will bring the music to life.</p>\n\n<p>Eckart Preu\, conductor</p>\n\n<p>Hector Del Curto\, bandoneon</p>\n\n<p>Fernanda Ghi and Silvio Grand\, tango dancers</p>\n\n<p>GABRIELA LENA FRANK: Eleg&iacute\;a Andina for Orchestra (CCO Premiere) |&nbsp\;<a href="https://christianbaldini.blogspot.com/2019/04/composer-profile-gabriela-lena-frank-in.html">More Info</a>&nbsp\;|&nbsp\;<a href="https://www.youtube.com/watch?v=wSKNz4462cI">YouTube</a></p>\n\n<p>ASTOR PIAZZOLLA\, arr. IAIN FARRINGTON: Three Tangos (CCO Premiere)&nbsp\;<br />\nTango del Diablo\,&nbsp\;Romance del Diablo\,&nbsp\;Vayamos al Diablo</p>\n\n<p>OSVALDO GOLIJOV: Last Round (CCO Premiere) |&nbsp\;<a href="https://www.rnz.co.nz/concert/programmes/musicalive/audio/2018707650/golijov-last-round">More Info</a>&nbsp\;|&nbsp\;<a href="https://youtu.be/QMzquyrKtZc">YouTube</a><br />\n&nbsp\; &nbsp\;I. Movement Movido\, urgente\,&nbsp\;II. Murtes Del Angel (Deaths of the Angel)</p>\n\n<p>ASTOR PIAZZOLLA (Edizione Curci): Bandoneon Concerto &ldquo\;Aconcagua&rdquo\; (CCO Premiere) |&nbsp\;<a href="https://www.hollywoodbowl.com/musicdb/pieces/1080/bandoneon-concerto">More Info</a>&nbsp\;|&nbsp\;<a href="https://youtu.be/vBKAgbw32Tw">YouTube</a><br />\n&nbsp\; &nbsp\;I. Allegro Marcato\,&nbsp\;II. Moderato\, III. Presto</p>\n\n<p>Approximately 1 hour and 30 minutes with a 15-minute intermission</p>\n\n<p>Wine will be available for purchase<br />\n<br />\n<strong>The 2022 Summermusik festival is presented by Chavez Properties.</strong></p>\n</div>\n</div>\n
LOCATION:School for Creative & Performing Arts Corbett Theatre\, DOWNTOWN 108 W Central Pkwy\, Cincinnati\, OH 45202
UID:e.818.17870
SEQUENCE:3
DTSTAMP:20260424T125802Z
URL:https://business.hispanicchambercincinnati.com/events/details/tales-of-two-countries-17870
END:VEVENT

END:VCALENDAR
