BEGIN:VCALENDAR
VERSION:2.0
PRODID:-//ChamberMaster//Event Calendar 2.0//EN
METHOD:PUBLISH
X-PUBLISHED-TTL:P3D
REFRESH-INTERVAL:P3D
CALSCALE:GREGORIAN
BEGIN:VEVENT
DTSTART:20230319T160000Z
DTEND:20230319T220000Z
X-MICROSOFT-CDO-ALLDAYEVENT:FALSE
SUMMARY:Tan Latina Como Tu Expo
DESCRIPTION:Tan Latina Como Tu Expo will be back this year!\n\nSave The Date- 3/19/23 from 12-6 pm at the Sharonville Convention Center!\n\n\n\nThis space is created for Latinas who might not have the chance to access these types of opportunities as well as building community and a space where we can learn\, connect and do business with each other!\n\n\n\nWe will focus on Professional Development\, Entrepreneurship\, Health\, and Beauty.\n\n\n\nFor sponsorship information\, please email me at mmartinez@lamegamedia.com\n\n\n\n#womenexpo \n\n#community \n\n#entrepreneurship\n\n#tanlatinacomotu \n\n#latinas\n\n#Lamega977 \n\n#cincinnati
X-ALT-DESC;FMTTYPE=text/html:Tan Latina Como Tu Expo will be back this year!<br />\nSave The Date- 3/19/23 from 12-6 pm at the Sharonville Convention Center!<br />\n<br />\nThis space is created for Latinas who might not have the chance to access these types of opportunities as well as building community and a space where&nbsp\;we can learn\, connect and do business with each other!<br />\n<br />\nWe will focus on Professional&nbsp\;Development\, Entrepreneurship\, Health\, and Beauty.<br />\n<br />\nFor sponsorship information\, please email me at&nbsp\;<a data-attribute-index="7" href="mailto:mmartinez@lamegamedia.com">mmartinez@lamegamedia.com</a><br />\n<br />\n<a data-attribute-index="0" href="https://www.linkedin.com/feed/hashtag/?keywords=womenexpo&amp\;highlightedUpdateUrns=urn%3Ali%3Aactivity%3A7027706207830224896" style="box-sizing: inherit\; margin: var(--artdeco-reset-base-margin-zero)\; padding: var(--artdeco-reset-base-padding-zero)\; font-size: 14px\; vertical-align: var(--artdeco-reset-base-vertical-align-baseline)\; text-decoration: var(--artdeco-reset-link-text-decoration-none)\; font-weight: var(--font-weight-bold)\; border: var(--artdeco-reset-link-border-zero)\; color: var(--color-action)\; touch-action: manipulation\; position: relative\; word-break: normal\; overflow-wrap: normal\; font-family: -apple-system\, system-ui\, BlinkMacSystemFont\, &quot\;Segoe UI&quot\;\, Roboto\, &quot\;Helvetica Neue&quot\;\, &quot\;Fira Sans&quot\;\, Ubuntu\, Oxygen\, &quot\;Oxygen Sans&quot\;\, Cantarell\, &quot\;Droid Sans&quot\;\, &quot\;Apple Color Emoji&quot\;\, &quot\;Segoe UI Emoji&quot\;\, &quot\;Segoe UI Emoji&quot\;\, &quot\;Segoe UI Symbol&quot\;\, &quot\;Lucida Grande&quot\;\, Helvetica\, Arial\, sans-serif\; line-height: inherit !important\;">#womenexpo</a><span style="color: rgba(0\, 0\, 0\, 0.9)\; font-family: -apple-system\, system-ui\, BlinkMacSystemFont\, &quot\;Segoe UI&quot\;\, Roboto\, &quot\;Helvetica Neue&quot\;\, &quot\;Fira Sans&quot\;\, Ubuntu\, Oxygen\, &quot\;Oxygen Sans&quot\;\, Cantarell\, &quot\;Droid Sans&quot\;\, &quot\;Apple Color Emoji&quot\;\, &quot\;Segoe UI Emoji&quot\;\, &quot\;Segoe UI Emoji&quot\;\, &quot\;Segoe UI Symbol&quot\;\, &quot\;Lucida Grande&quot\;\, Helvetica\, Arial\, sans-serif\; font-size: 14px\;">&nbsp\;</span><br />\n<a data-attribute-index="1" href="https://www.linkedin.com/feed/hashtag/?keywords=community&amp\;highlightedUpdateUrns=urn%3Ali%3Aactivity%3A7027706207830224896" style="box-sizing: inherit\; margin: var(--artdeco-reset-base-margin-zero)\; padding: var(--artdeco-reset-base-padding-zero)\; font-size: 14px\; vertical-align: var(--artdeco-reset-base-vertical-align-baseline)\; text-decoration: var(--artdeco-reset-link-text-decoration-none)\; font-weight: var(--font-weight-bold)\; border: var(--artdeco-reset-link-border-zero)\; color: var(--color-action)\; touch-action: manipulation\; position: relative\; word-break: normal\; overflow-wrap: normal\; font-family: -apple-system\, system-ui\, BlinkMacSystemFont\, &quot\;Segoe UI&quot\;\, Roboto\, &quot\;Helvetica Neue&quot\;\, &quot\;Fira Sans&quot\;\, Ubuntu\, Oxygen\, &quot\;Oxygen Sans&quot\;\, Cantarell\, &quot\;Droid Sans&quot\;\, &quot\;Apple Color Emoji&quot\;\, &quot\;Segoe UI Emoji&quot\;\, &quot\;Segoe UI Emoji&quot\;\, &quot\;Segoe UI Symbol&quot\;\, &quot\;Lucida Grande&quot\;\, Helvetica\, Arial\, sans-serif\; line-height: inherit !important\;">#community</a><span style="color: rgba(0\, 0\, 0\, 0.9)\; font-family: -apple-system\, system-ui\, BlinkMacSystemFont\, &quot\;Segoe UI&quot\;\, Roboto\, &quot\;Helvetica Neue&quot\;\, &quot\;Fira Sans&quot\;\, Ubuntu\, Oxygen\, &quot\;Oxygen Sans&quot\;\, Cantarell\, &quot\;Droid Sans&quot\;\, &quot\;Apple Color Emoji&quot\;\, &quot\;Segoe UI Emoji&quot\;\, &quot\;Segoe UI Emoji&quot\;\, &quot\;Segoe UI Symbol&quot\;\, &quot\;Lucida Grande&quot\;\, Helvetica\, Arial\, sans-serif\; font-size: 14px\;">&nbsp\;</span><br />\n<a data-attribute-index="2" href="https://www.linkedin.com/feed/hashtag/?keywords=entrepreneurship&amp\;highlightedUpdateUrns=urn%3Ali%3Aactivity%3A7027706207830224896" style="box-sizing: inherit\; margin: var(--artdeco-reset-base-margin-zero)\; padding: var(--artdeco-reset-base-padding-zero)\; font-size: 14px\; vertical-align: var(--artdeco-reset-base-vertical-align-baseline)\; text-decoration: var(--artdeco-reset-link-text-decoration-none)\; font-weight: var(--font-weight-bold)\; border: var(--artdeco-reset-link-border-zero)\; color: var(--color-action)\; touch-action: manipulation\; position: relative\; word-break: normal\; overflow-wrap: normal\; font-family: -apple-system\, system-ui\, BlinkMacSystemFont\, &quot\;Segoe UI&quot\;\, Roboto\, &quot\;Helvetica Neue&quot\;\, &quot\;Fira Sans&quot\;\, Ubuntu\, Oxygen\, &quot\;Oxygen Sans&quot\;\, Cantarell\, &quot\;Droid Sans&quot\;\, &quot\;Apple Color Emoji&quot\;\, &quot\;Segoe UI Emoji&quot\;\, &quot\;Segoe UI Emoji&quot\;\, &quot\;Segoe UI Symbol&quot\;\, &quot\;Lucida Grande&quot\;\, Helvetica\, Arial\, sans-serif\; line-height: inherit !important\;">#entrepreneurship</a><br />\n<a data-attribute-index="3" href="https://www.linkedin.com/feed/hashtag/?keywords=tanlatinacomotu&amp\;highlightedUpdateUrns=urn%3Ali%3Aactivity%3A7027706207830224896" style="box-sizing: inherit\; margin: var(--artdeco-reset-base-margin-zero)\; padding: var(--artdeco-reset-base-padding-zero)\; font-size: 14px\; vertical-align: var(--artdeco-reset-base-vertical-align-baseline)\; text-decoration: var(--artdeco-reset-link-text-decoration-none)\; font-weight: var(--font-weight-bold)\; border: var(--artdeco-reset-link-border-zero)\; color: var(--color-action)\; touch-action: manipulation\; position: relative\; word-break: normal\; overflow-wrap: normal\; font-family: -apple-system\, system-ui\, BlinkMacSystemFont\, &quot\;Segoe UI&quot\;\, Roboto\, &quot\;Helvetica Neue&quot\;\, &quot\;Fira Sans&quot\;\, Ubuntu\, Oxygen\, &quot\;Oxygen Sans&quot\;\, Cantarell\, &quot\;Droid Sans&quot\;\, &quot\;Apple Color Emoji&quot\;\, &quot\;Segoe UI Emoji&quot\;\, &quot\;Segoe UI Emoji&quot\;\, &quot\;Segoe UI Symbol&quot\;\, &quot\;Lucida Grande&quot\;\, Helvetica\, Arial\, sans-serif\; line-height: inherit !important\;">#tanlatinacomotu</a><span style="color: rgba(0\, 0\, 0\, 0.9)\; font-family: -apple-system\, system-ui\, BlinkMacSystemFont\, &quot\;Segoe UI&quot\;\, Roboto\, &quot\;Helvetica Neue&quot\;\, &quot\;Fira Sans&quot\;\, Ubuntu\, Oxygen\, &quot\;Oxygen Sans&quot\;\, Cantarell\, &quot\;Droid Sans&quot\;\, &quot\;Apple Color Emoji&quot\;\, &quot\;Segoe UI Emoji&quot\;\, &quot\;Segoe UI Emoji&quot\;\, &quot\;Segoe UI Symbol&quot\;\, &quot\;Lucida Grande&quot\;\, Helvetica\, Arial\, sans-serif\; font-size: 14px\;">&nbsp\;</span><br />\n<a data-attribute-index="4" href="https://www.linkedin.com/feed/hashtag/?keywords=latinas&amp\;highlightedUpdateUrns=urn%3Ali%3Aactivity%3A7027706207830224896" style="box-sizing: inherit\; margin: var(--artdeco-reset-base-margin-zero)\; padding: var(--artdeco-reset-base-padding-zero)\; font-size: 14px\; vertical-align: var(--artdeco-reset-base-vertical-align-baseline)\; text-decoration: var(--artdeco-reset-link-text-decoration-none)\; font-weight: var(--font-weight-bold)\; border: var(--artdeco-reset-link-border-zero)\; color: var(--color-action)\; touch-action: manipulation\; position: relative\; word-break: normal\; overflow-wrap: normal\; font-family: -apple-system\, system-ui\, BlinkMacSystemFont\, &quot\;Segoe UI&quot\;\, Roboto\, &quot\;Helvetica Neue&quot\;\, &quot\;Fira Sans&quot\;\, Ubuntu\, Oxygen\, &quot\;Oxygen Sans&quot\;\, Cantarell\, &quot\;Droid Sans&quot\;\, &quot\;Apple Color Emoji&quot\;\, &quot\;Segoe UI Emoji&quot\;\, &quot\;Segoe UI Emoji&quot\;\, &quot\;Segoe UI Symbol&quot\;\, &quot\;Lucida Grande&quot\;\, Helvetica\, Arial\, sans-serif\; line-height: inherit !important\;">#latinas</a><br />\n<a data-attribute-index="5" href="https://www.linkedin.com/feed/hashtag/?keywords=lamega977&amp\;highlightedUpdateUrns=urn%3Ali%3Aactivity%3A7027706207830224896" style="box-sizing: inherit\; margin: var(--artdeco-reset-base-margin-zero)\; padding: var(--artdeco-reset-base-padding-zero)\; font-size: 14px\; vertical-align: var(--artdeco-reset-base-vertical-align-baseline)\; text-decoration: var(--artdeco-reset-link-text-decoration-none)\; font-weight: var(--font-weight-bold)\; border: var(--artdeco-reset-link-border-zero)\; color: var(--color-action)\; touch-action: manipulation\; position: relative\; word-break: normal\; overflow-wrap: normal\; font-family: -apple-system\, system-ui\, BlinkMacSystemFont\, &quot\;Segoe UI&quot\;\, Roboto\, &quot\;Helvetica Neue&quot\;\, &quot\;Fira Sans&quot\;\, Ubuntu\, Oxygen\, &quot\;Oxygen Sans&quot\;\, Cantarell\, &quot\;Droid Sans&quot\;\, &quot\;Apple Color Emoji&quot\;\, &quot\;Segoe UI Emoji&quot\;\, &quot\;Segoe UI Emoji&quot\;\, &quot\;Segoe UI Symbol&quot\;\, &quot\;Lucida Grande&quot\;\, Helvetica\, Arial\, sans-serif\; line-height: inherit !important\;">#Lamega977</a><span style="color: rgba(0\, 0\, 0\, 0.9)\; font-family: -apple-system\, system-ui\, BlinkMacSystemFont\, &quot\;Segoe UI&quot\;\, Roboto\, &quot\;Helvetica Neue&quot\;\, &quot\;Fira Sans&quot\;\, Ubuntu\, Oxygen\, &quot\;Oxygen Sans&quot\;\, Cantarell\, &quot\;Droid Sans&quot\;\, &quot\;Apple Color Emoji&quot\;\, &quot\;Segoe UI Emoji&quot\;\, &quot\;Segoe UI Emoji&quot\;\, &quot\;Segoe UI Symbol&quot\;\, &quot\;Lucida Grande&quot\;\, Helvetica\, Arial\, sans-serif\; font-size: 14px\;">&nbsp\;</span><br />\n<a data-attribute-index="6" href="https://www.linkedin.com/feed/hashtag/?keywords=cincinnati&amp\;highlightedUpdateUrns=urn%3Ali%3Aactivity%3A7027706207830224896" style="box-sizing: inherit\; margin: var(--artdeco-reset-base-margin-zero)\; padding: var(--artdeco-reset-base-padding-zero)\; font-size: 14px\; vertical-align: var(--artdeco-reset-base-vertical-align-baseline)\; text-decoration: var(--artdeco-reset-link-text-decoration-none)\; font-weight: var(--font-weight-bold)\; border: var(--artdeco-reset-link-border-zero)\; color: var(--color-action)\; touch-action: manipulation\; position: relative\; word-break: normal\; overflow-wrap: normal\; font-family: -apple-system\, system-ui\, BlinkMacSystemFont\, &quot\;Segoe UI&quot\;\, Roboto\, &quot\;Helvetica Neue&quot\;\, &quot\;Fira Sans&quot\;\, Ubuntu\, Oxygen\, &quot\;Oxygen Sans&quot\;\, Cantarell\, &quot\;Droid Sans&quot\;\, &quot\;Apple Color Emoji&quot\;\, &quot\;Segoe UI Emoji&quot\;\, &quot\;Segoe UI Emoji&quot\;\, &quot\;Segoe UI Symbol&quot\;\, &quot\;Lucida Grande&quot\;\, Helvetica\, Arial\, sans-serif\; line-height: inherit !important\;">#cincinnati</a>
LOCATION:Sharonville Convention Center
UID:e.818.18606
SEQUENCE:3
DTSTAMP:20260423T222655Z
URL:https://business.hispanicchambercincinnati.com/events/details/tan-latina-como-tu-expo-18606
END:VEVENT

END:VCALENDAR
