BEGIN:VCALENDAR
VERSION:2.0
PRODID:-//ChamberMaster//Event Calendar 2.0//EN
METHOD:PUBLISH
X-PUBLISHED-TTL:P3D
REFRESH-INTERVAL:P3D
CALSCALE:GREGORIAN
BEGIN:VEVENT
DTSTART:20240917T113000Z
DTEND:20240917T140000Z
X-MICROSOFT-CDO-ALLDAYEVENT:FALSE
SUMMARY:The BBB AI Advantage Series: Trust\, Tools\, and Transformation
DESCRIPTION:WEBINAR: How Could AI Possibly Help My Business? Applying AI to Every Type of Business\n\n\n\n\n\nThis is session one in a four-part AI learning series: The BBB AI Advantage Series: Trust\, Tools\, and Transformation with BBB Cincinnati and BrandRank.AI's Pete Blackshaw\, a global leader in the AI space. Register for the full series at checkout.\n\nThis webinar dives into how AI can be applied to every business type\, from one-person operations to larger teams. We'll showcase live demonstrations and discuss how AI can be tailored to optimize tasks and processes across industries. Gain valuable insights from AI experts and understand how this technology can benefit your business.\n\n\n\nReady to take your business to the next level? Sign up for the full four-part AI learning serieswith BrandRank.AI's Pete Blackshaw\, a global leader in the AI space.\n\n\n\nWe'll break down AI for business growth into manageable steps\, covering trust\, tools\, and the transformative power it holds for your company. This expert-led how-to content is designed so you can turn knowledge into action.\n\nExplore the sessions below and bundle to receive a discount on registration to all four sessions at checkout.\n\n\n\n\n\nThe BBB AI Advantage Series: Trust\, Tools\, and Transformation\n\nSession 3: In-Person Workshop\n\nHands-On AI Mastery: Building Trust and Enhancing Customer Engagement through AI-Powered Services\n\nSeptember 17\, 7:30-10:00 a.m. ET\n\nXavier University's Center for Innovation\n\nThis hands-on workshop will equip you with the skills to build and manage your own AI-powered customer service assistant. Learn how AI can automate tasks\, improve lead generation\, and enhance customer acquisition through new customer service techniques that harness the efficiency of AI without compromising connections. This interactive session is perfect for businesses looking to leverage the power of AI for better customer service.
X-ALT-DESC;FMTTYPE=text/html:<div>\n<div>\n<p>WEBINAR: How Could AI Possibly Help My Business? Applying AI to Every Type of Business</p>\n</div>\n</div>\n\n<div>\n<div>\n<p>This is session one in a four-part AI learning series:&nbsp\;The BBB AI Advantage Series: Trust\, Tools\, and Transformation&nbsp\;with BBB Cincinnati and BrandRank.AI&#39\;s Pete Blackshaw\, a global leader in the AI space. Register for the full series at checkout.</p>\n\n<p>This webinar dives into how AI can be applied to every business type\, from one-person operations to larger teams. We&#39\;ll showcase live demonstrations and discuss how AI can be tailored to optimize tasks and processes across industries. Gain valuable insights from AI experts and understand how this technology can benefit your business.<br />\n<br />\nReady to take your business to the next level?&nbsp\;Sign up for the full four-part AI learning serieswith BrandRank.AI&#39\;s Pete Blackshaw\, a global leader in the AI space.</p>\n\n<div>\n<div>\n<p>We&#39\;ll break down AI for business growth into manageable steps\, covering trust\, tools\, and the transformative power it holds for your company. This expert-led how-to content is designed so you can turn knowledge into action.</p>\n\n<p>Explore the sessions below and bundle to receive a discount on registration to all four sessions at checkout.</p>\n</div>\n</div>\n\n<div>\n<div>\n<h3>The BBB AI Advantage Series: Trust\, Tools\, and Transformation</h3>\n\n<p>Session 3: In-Person Workshop</p>\n\n<p>Hands-On AI Mastery: Building Trust and Enhancing Customer Engagement through AI-Powered Services</p>\n\n<p>September 17\, 7:30-10:00 a.m. ET<br />\nXavier University&#39\;s Center for Innovation</p>\n\n<p>This hands-on workshop will equip you with the skills to build and manage your own AI-powered customer service assistant. Learn how AI can automate tasks\, improve lead generation\, and enhance customer acquisition through new customer service techniques that harness the efficiency of AI without compromising connections. This interactive session is perfect for businesses looking to leverage the power of AI for better customer service.</p>\n</div>\n</div>\n\n<div>\n<div>\n<p>&nbsp\;</p>\n</div>\n</div>\n</div>\n</div>\n
LOCATION:Online
UID:e.818.20017
SEQUENCE:3
DTSTAMP:20260421T021248Z
URL:https://business.hispanicchambercincinnati.com/events/details/the-bbb-ai-advantage-series-trust-tools-and-transformation-20017
END:VEVENT

END:VCALENDAR
