BEGIN:VCALENDAR
VERSION:2.0
PRODID:-//ChamberMaster//Event Calendar 2.0//EN
METHOD:PUBLISH
X-PUBLISHED-TTL:P3D
REFRESH-INTERVAL:P3D
CALSCALE:GREGORIAN
BEGIN:VEVENT
DTSTART:20230628T150000Z
DTEND:20230628T170000Z
X-MICROSOFT-CDO-ALLDAYEVENT:FALSE
SUMMARY:The New Business Transformation Model
DESCRIPTION:"THE NEW BUSINESS TRANSFORMATION MODEL"\n\nTransformative CEO Virtual Summit\n\nJune 28\, 2023\, 11:00 a.m.   1:00 p.m. EST\n\nThrough BBB's partnership with The CEO Forum Group\, we are pleased to share an exclusive offer for BBB Accredited Businesses: complimentary access to The CEO Forum Group's Transformative Annual Virtual Summit on June 28 from 11:00 a.m. to 1:00 p.m. EST.\n\n\n\nKeynote speakers:\n\n"Emerging Strategic Models"\n\nSharon Marcil\n\nNorth America Chair\n\nBCG\n\n"Unlocking Key Potential with the Power of 'Real'"\n\nEsi Seng\n\nCEO\n\nTate's Bake Shop\n\n"The Subscription Economy"\n\nTien Tzuo\n\nFounder & CEO\n\nZuora\n\n\n\nBetter Business Bureau Accredited Businesses get complimentary access to The CEO Forum Group's Transformative Annual Virtual Summit   FREE for BBB Accredited Businesses.\n\nYou'll get a backstage pass and be taken "behind the scenes" for different workgroups\, while seeing firsthand how CEOs brainstorm and interact together.\n\nClick the button below for more information and to claim your free ticket today!\n\nREGISTER FOR ZOOM MEETING
X-ALT-DESC;FMTTYPE=text/html:<p>&quot\;THE NEW BUSINESS TRANSFORMATION MODEL&quot\;<br />\nTransformative CEO Virtual Summit<br />\nJune 28\, 2023\, 11:00 a.m. &ndash\; 1:00 p.m. EST</p>\n\n<p>Through BBB&#39\;s partnership with The CEO Forum Group\, we are pleased to share an exclusive offer for BBB Accredited Businesses:&nbsp\;complimentary access to The CEO Forum Group&#39\;s Transformative Annual Virtual Summit on June 28 from 11:00 a.m. to 1:00 p.m. EST.<br />\n<br />\nKeynote speakers:</p>\n\n<p><strong>&ldquo\;Emerging Strategic Models&rdquo\;</strong><br />\nSharon Marcil<br />\nNorth America Chair<br />\nBCG</p>\n\n<p><strong>&ldquo\;Unlocking Key Potential with the Power of &lsquo\;Real&#39\;&rdquo\;</strong><br />\nEsi Seng<br />\nCEO<br />\nTate&rsquo\;s Bake Shop</p>\n\n<p><strong>&ldquo\;The Subscription Economy&rdquo\;</strong><br />\nTien Tzuo<br />\nFounder &amp\; CEO<br />\nZuora<br />\n<br />\nBetter Business Bureau Accredited Businesses get complimentary access to The CEO Forum Group&#39\;s Transformative Annual Virtual Summit &mdash\; FREE for BBB Accredited Businesses.</p>\n\n<p>You&#39\;ll get a backstage pass and be taken &rdquo\;behind the scenes&rdquo\; for different workgroups\, while seeing firsthand how CEOs brainstorm and interact together.</p>\n\n<p>Click the button below for more information and to claim your free ticket today!<br />\n<a data-auth="NotApplicable" data-linkindex="0" data-trackable="true" href="https://r20.rs6.net/tn.jsp?f=001gaOGa-JfgukmD_cPmOqQPs3Myaoxa3RlVGLckqHW59VzSMGisHBDneKDGUMfoczrO5yBzatuTDrCdPtiI7kvJ4N8OqboMt1ofXIxsxK1KdgZPk90ZlFTp4mDC4cQq1gIcICPpIM1y7qE8yIhPK8jq5H6G8o5VxrK9ovF8J-TtR_sO8PifAm6EMQYQO_Gfc9G5d_LGxz-DcqQ8xmzlsNcDa20UJsPw6KxfMPgsnk-Q2uHa8eFiiRQC092a3eUUZW5&amp\;c=x7gbRlnENjciwLxIeYMcNtpjBY_Zuxmk4RNc5bKl0hOOop58mLz_Ow==&amp\;ch=a7VBrMR3rA6x7uWvRwTy1kfMfF6Sw2tlEdX5nKvYiDNROZxwG5S8tw==" rel="noopener noreferrer" target="_blank">REGISTER FOR ZOOM MEETING</a></p>\n
LOCATION:Virtual
UID:e.818.19022
SEQUENCE:3
DTSTAMP:20260421T090219Z
URL:https://business.hispanicchambercincinnati.com/events/details/the-new-business-transformation-model-19022
END:VEVENT

END:VCALENDAR
