BEGIN:VCALENDAR
VERSION:2.0
PRODID:-//ChamberMaster//Event Calendar 2.0//EN
METHOD:PUBLISH
X-PUBLISHED-TTL:P3D
REFRESH-INTERVAL:P3D
CALSCALE:GREGORIAN
BEGIN:VEVENT
DTSTART:20240926T190000Z
DTEND:20240926T233000Z
X-MICROSOFT-CDO-ALLDAYEVENT:FALSE
SUMMARY:The Power of the Vote
DESCRIPTION:Journalist George Chidi and Dr. Jenn Dye\, inaugural Theodore M. Berry Director of the Nathaniel R. Jones Center for Race\, Gender\, and Social Justice at the University of Cincinnati discuss the power of the vote today. \n\n3:00 - 5:00 p.m. Voter Registration Drive with Alpha Kappa Alpha Sorority\, Inc.\, Sigma Omega Chapter and Phi Psi Omega Chapter and Phi Beta Sigma Inc.\, Delta Theta Sigma Chapter\n\n5:30 - 6:30 p.m. Reception\n\n6:30 - 7:30 p.m. The Power of the Vote with George Chidi\, moderated by Dr. Jenn Dye\n\n \n\nAs citizens prepare for an election season with generational impacts in executive\, legislative and judicial branches at national\, state and local levels\, journalist George Chidi sees a fundamental shift in the direct impact elections have in people's lives.\n\nWhile exploring this shift\, the importance of engaged\, civic-minded individuals in the days after Election Day become critical to ensuring the health of our democracy. By looking to history and recent events\, your vote holds even more power today.\n\nTickets $10\n\nFreedom Center Members free
X-ALT-DESC;FMTTYPE=text/html:<p>Journalist George Chidi and Dr. Jenn Dye\, inaugural Theodore M. Berry Director of the Nathaniel R. Jones Center for Race\, Gender\, and Social Justice at the University of Cincinnati discuss the power of the vote today.&nbsp\;</p>\n\n<p>3:00 - 5:00 p.m. Voter Registration Drive&nbsp\;with Alpha Kappa Alpha Sorority\, Inc.\, Sigma Omega Chapter and Phi Psi Omega Chapter and Phi Beta Sigma Inc.\, Delta Theta Sigma Chapter</p>\n\n<p>5:30 - 6:30 p.m.&nbsp\;Reception</p>\n\n<p>6:30 - 7:30 p.m.&nbsp\;The Power of the Vote&nbsp\;with George Chidi\, moderated by Dr. Jenn Dye<br />\n&nbsp\;</p>\n\n<p>As citizens prepare for an election season with generational impacts in executive\, legislative and judicial branches at national\, state and local levels\, journalist George Chidi sees a fundamental shift in the direct impact elections have in people&#39\;s lives.</p>\n\n<p>While exploring this shift\, the importance of engaged\, civic-minded individuals in the days after Election Day become critical to ensuring the health of our democracy. By looking to history and recent events\, your vote holds even more power today.</p>\n\n<p>Tickets $10<br />\nFreedom Center Members free</p>\n
LOCATION:National Underground Railroad Freedom Center 50 East Freedom Way\, Cincinnati\, OH 45202
UID:e.818.20173
SEQUENCE:3
DTSTAMP:20260420T161855Z
URL:https://business.hispanicchambercincinnati.com/events/details/the-power-of-the-vote-20173
END:VEVENT

END:VCALENDAR
