BEGIN:VCALENDAR
VERSION:2.0
PRODID:-//ChamberMaster//Event Calendar 2.0//EN
METHOD:PUBLISH
X-PUBLISHED-TTL:P3D
REFRESH-INTERVAL:P3D
CALSCALE:GREGORIAN
BEGIN:VEVENT
DTSTART:20221110T000000Z
DTEND:20221110T020000Z
X-MICROSOFT-CDO-ALLDAYEVENT:FALSE
SUMMARY:Theater Preview Night at Saint Ursula Academy
DESCRIPTION:7th and 8th-Grade Girls and a Guest\n\n \n\nJoin us in the modern Saint Ursula Theater and enjoy the fall production of Little Women\, The Musical! Admission is FREE for 7th and 8th-grade girls and a guest. \n\n\n\nREGISTER
X-ALT-DESC;FMTTYPE=text/html:<div>7th and 8th-Grade Girls and a Guest<br />\n&nbsp\;</div>\n\n<div>Join us in the modern Saint Ursula Theater and enjoy the fall production of&nbsp\;Little Women\, The Musical!&nbsp\;Admission is FREE for 7th and 8th-grade girls and a guest.&nbsp\;<br />\n<br />\n<a fr-original-style="box-sizing: border-box\; background-color: transparent\;  text-decoration: none\;" href="https://saintursula.myschoolapp.com/podium/default.aspx?t=36644&amp\;rid=20751&amp\;pe=1&amp\;wapp=1" rel="noopener noreferrer" target="_blank">REGISTER&nbsp\;</a></div>\n\n<div>&nbsp\;</div>\n
LOCATION:1339 East McMillan Street Cincinnati\, Ohio 45206
UID:e.818.18183
SEQUENCE:3
DTSTAMP:20260422T012719Z
URL:https://business.hispanicchambercincinnati.com/events/details/theater-preview-night-at-saint-ursula-academy-18183
END:VEVENT

END:VCALENDAR
