BEGIN:VCALENDAR
VERSION:2.0
PRODID:-//ChamberMaster//Event Calendar 2.0//EN
METHOD:PUBLISH
X-PUBLISHED-TTL:P3D
REFRESH-INTERVAL:P3D
CALSCALE:GREGORIAN
BEGIN:VEVENT
DTSTART:20230811T150000Z
DTEND:20230811T160000Z
X-MICROSOFT-CDO-ALLDAYEVENT:FALSE
SUMMARY:Tour | Artist's Take: Emily Momohara
DESCRIPTION:Hear photographer Emily Momohara's perspective on the current special exhibition Modern Women\, Modern Vision: Photography from the Bank of America Collection.\n\n\n\nThis tour provides an intimate opportunity to discover a working artist's relationship with and thoughts about influential works of art.
X-ALT-DESC;FMTTYPE=text/html:Hear photographer Emily Momohara&rsquo\;s perspective on the current special exhibition Modern Women\, Modern Vision: Photography from the Bank of America Collection.<br />\n<br />\nThis tour provides an intimate opportunity to discover a working artist&rsquo\;s relationship with and thoughts about influential works of art.
LOCATION:Taft Museum of Art 316 Pike St\, Cincinnati\, OH 45202
UID:e.818.19002
SEQUENCE:3
DTSTAMP:20260421T051034Z
URL:https://business.hispanicchambercincinnati.com/events/details/tour-artist-s-take-emily-momohara-19002
END:VEVENT

END:VCALENDAR
