BEGIN:VCALENDAR
VERSION:2.0
PRODID:-//ChamberMaster//Event Calendar 2.0//EN
METHOD:PUBLISH
X-PUBLISHED-TTL:P3D
REFRESH-INTERVAL:P3D
CALSCALE:GREGORIAN
BEGIN:VEVENT
DTSTART:20221002T140000Z
DTEND:20221002T210000Z
X-MICROSOFT-CDO-ALLDAYEVENT:FALSE
SUMMARY:Travel back in time at 1940s Day
DESCRIPTION:Transport yourself to the era of big band music\, chrome-fendered cars\, pin curls and Zoot suits. 1940s Day is an immersive celebration of the pivotal decade\, including the music\, fashion\, vehicles and people who shaped it.\n\n \nThis year's 1940s Day activities include:\n\n\n	Classic cars\n	Live music from Daniel Bennett & The Dirty Shirleys\, the Queen City Sisters\, Allen Howey and Dolores Raye\n	Costume contest\n	Conversation with Holocaust survivor Al Miller\, in partnership with the Nancy & David Wolf Holocaust & Humanity Center\n	LaVerne Summerlin\, Professor of English at the University of Cincinnati and author of Gems of Cincinnati's West End: Black Children and Catholic Missionaries 1940-1970\n	Ezzard Charles Trivia\n	The science behind 1940s superfood SPAM\n	Broadcast from the past stage productions on the Austin E. Knowlton Foundation Science Stage\n	Vintage newsreel screenings in the Scripps Howard Newsreel Theater\n	Free Rotunda tours
X-ALT-DESC;FMTTYPE=text/html:Transport yourself to the era of big band music\, chrome-fendered cars\, pin curls and Zoot suits. 1940s Day is an immersive celebration of the pivotal decade\, including the music\, fashion\, vehicles and people who shaped it.<br />\n&nbsp\;\n<p>This year&#39\;s 1940s Day activities include:</p>\n\n<ul>\n	<li>Classic cars</li>\n	<li>Live music from Daniel Bennett &amp\; The Dirty Shirleys\, the Queen City Sisters\, Allen Howey and Dolores Raye</li>\n	<li>Costume contest</li>\n	<li>Conversation with Holocaust survivor Al Miller\, in partnership with the Nancy &amp\; David Wolf Holocaust &amp\; Humanity Center</li>\n	<li>LaVerne Summerlin\, Professor of English at the University of Cincinnati and author of&nbsp\;Gems of Cincinnati&#39\;s West End: Black Children and Catholic Missionaries 1940-1970</li>\n	<li>Ezzard Charles Trivia</li>\n	<li>The science behind 1940s superfood SPAM</li>\n	<li>Broadcast from the past stage productions on the Austin E. Knowlton Foundation Science Stage</li>\n	<li>Vintage newsreel screenings in the Scripps Howard Newsreel Theater</li>\n	<li>Free Rotunda tours</li>\n</ul>\n
LOCATION:1301 Western Ave Cincinnati\, OH 45203
UID:e.818.18133
SEQUENCE:3
DTSTAMP:20260421T221804Z
URL:https://business.hispanicchambercincinnati.com/events/details/travel-back-in-time-at-1940s-day-18133
END:VEVENT

END:VCALENDAR
