BEGIN:VCALENDAR
VERSION:2.0
PRODID:-//ChamberMaster//Event Calendar 2.0//EN
METHOD:PUBLISH
X-PUBLISHED-TTL:P3D
REFRESH-INTERVAL:P3D
CALSCALE:GREGORIAN
BEGIN:VEVENT
DTSTART:20250313T153000Z
DTEND:20250313T170000Z
X-MICROSOFT-CDO-ALLDAYEVENT:FALSE
SUMMARY:UC Blue Ash College Scholarship Luncheon
DESCRIPTION:Please join us in honoring our 2024-25 scholarship donors and recipients!\n\nThursday\, March 13\, 2025\n\n11:30 a.m. - 1:30 p.m.\n\nCooper Creek Event Center\n\n4040 Cooper Rd.\n\nBlue Ash\, OH 45241\n\nRSVP by March 7\n\nQuestions? Contact Andy Baker at bakera1@foundation.uc.edu.
X-ALT-DESC;FMTTYPE=text/html:<p>Please join us in honoring our 2024-25 scholarship donors and recipients!</p>\n\n<p>Thursday\, March 13\, 2025<br />\n11:30 a.m. - 1:30 p.m.</p>\n\n<p>Cooper Creek Event Center<br />\n<a href="https://www.google.com/maps/place/Cooper+Creek\,+4040+Cooper+Rd\,+Blue+Ash\,+OH+45241/data=!4m2!3m1!1s0x8840524d7145bfc5:0xa0070bcd4db30f2f?sa=X&amp\;ved=1t:242&amp\;ictx=111">4040 Cooper Rd.</a><br />\n<a href="https://www.google.com/maps/place/Cooper+Creek\,+4040+Cooper+Rd\,+Blue+Ash\,+OH+45241/data=!4m2!3m1!1s0x8840524d7145bfc5:0xa0070bcd4db30f2f?sa=X&amp\;ved=1t:242&amp\;ictx=111">Blue Ash\, OH 45241</a></p>\n\n<p>RSVP by March 7</p>\n\n<p>Questions? Contact Andy Baker at&nbsp\;<a href="mailto:bakera1@foundation.uc.edu">bakera1@foundation.uc.edu</a>.</p>\n
LOCATION:Cooper Creek Event Center 4040 Cooper Rd. Blue Ash\, OH 45241
UID:e.818.21236
SEQUENCE:3
DTSTAMP:20260423T124439Z
URL:https://business.hispanicchambercincinnati.com/events/details/uc-blue-ash-college-scholarship-luncheon-21236
END:VEVENT

END:VCALENDAR
