BEGIN:VCALENDAR
VERSION:2.0
PRODID:-//ChamberMaster//Event Calendar 2.0//EN
METHOD:PUBLISH
X-PUBLISHED-TTL:P3D
REFRESH-INTERVAL:P3D
CALSCALE:GREGORIAN
BEGIN:VEVENT
DTSTART:20220803T213000Z
DTEND:20220803T233000Z
X-MICROSOFT-CDO-ALLDAYEVENT:FALSE
SUMMARY:Union Institute & University's Open House
DESCRIPTION:Join Team Union on August 3rd as Union Institute & University officially opens its new offices to the public with a unique guided tour. The tours will begin at 5:30 PM and occur every 15 minutes until 7 PM. Each tour will offer guests a special behind-the-scenes experience and include programmatic updates and introductions to key faculty\, staff\, and Board members. Throughout the evening\, enjoy an intimate setting for conversation\, exploration\, and immersion for all. Light refreshments will be offered.\n\nUnion Institute & University\, the number one adult-focused and diverse non-profit university in Ohio\, offers bachelor's\, master's\, and doctoral degrees and certificates in social justice\, leadership\, public service\, mental wellness\, education\, health care\, and more. Union's programs serve busy adults and are available part- or full-time.\n\nHosted by Union's Board of Trustees and President Karen Schuster Webb\, Ph.D.
X-ALT-DESC;FMTTYPE=text/html:<p>Join Team Union on August 3rd as Union Institute &amp\; University officially opens its new offices to the public with a unique guided tour. The tours will begin at 5:30 PM and occur every 15 minutes until 7 PM. Each tour will offer guests a special behind-the-scenes experience and include programmatic updates and introductions to key faculty\, staff\, and Board members. Throughout the evening\, enjoy an intimate setting for conversation\, exploration\, and immersion for all. Light refreshments will be offered.</p>\n\n<p>Union Institute &amp\; University\, the number one adult-focused and diverse non-profit university in Ohio\, offers bachelor&#39\;s\, master&#39\;s\, and doctoral degrees and certificates in social justice\, leadership\, public service\, mental wellness\, education\, health care\, and more. Union&#39\;s programs serve busy adults and are available part- or full-time.</p>\n\n<p>Hosted by Union&#39\;s Board of Trustees and President Karen Schuster Webb\, Ph.D.</p>\n
LOCATION:Union Institute & University 2090 Florence Ave Cincinnati\, OH 45206 View map
UID:e.818.17917
SEQUENCE:3
DTSTAMP:20260424T125726Z
URL:https://business.hispanicchambercincinnati.com/events/details/union-institute-university-s-open-house-17917
END:VEVENT

END:VCALENDAR
