BEGIN:VCALENDAR
VERSION:2.0
PRODID:-//ChamberMaster//Event Calendar 2.0//EN
METHOD:PUBLISH
X-PUBLISHED-TTL:P3D
REFRESH-INTERVAL:P3D
CALSCALE:GREGORIAN
BEGIN:VEVENT
DTSTART:20231023T223000Z
DTEND:20231024T003000Z
X-MICROSOFT-CDO-ALLDAYEVENT:FALSE
SUMMARY:We Are One: Hope - Greater Cincinnati: A Home for All
DESCRIPTION:There is a rich history of immigration in the Greater Cincinnati region dating back to its settlement in 1788. Learn about the events that have made our home a cultural melting pot as well as what we can do to preserve individual cultures and provide equitable access to all.\n\n\nSchedule\n\n6:30 - 7:15pm: Latin American popular/folk songs by Sonia Ivette Morales-Matos and friends\n\n7:15 - 7:20pm: Introduction and viewing of the Hope Commission for Little Amal by The Well\n\n7:20 - 8:15pm: "History of Immigration in Cincinnati" presented by Alfonso Cornejo\, Hispanic Chamber Cincinnati USA\n\n8:15 - 8:30pm: Audience learning of "Take What You Need" by Reena Esmail to be performed on 10.25 as a community chorus
X-ALT-DESC;FMTTYPE=text/html:There is a rich history of immigration in the Greater Cincinnati region dating back to its settlement in 1788. Learn about the events that have made our home a cultural melting pot as well as what we can do to preserve individual cultures and provide equitable access to all.\n<div>\n<div>\n<p><strong>Schedule</strong><br />\n6:30 - 7:15pm: Latin American popular/folk songs by Sonia&nbsp\;Ivette Morales-Matos and friends<br />\n7:15 - 7:20pm: Introduction and viewing of the Hope Commission for Little Amal by The Well<br />\n7:20 - 8:15pm: &ldquo\;History of Immigration in Cincinnati&rdquo\; presented by <strong>Alfonso Cornejo\, Hispanic Chamber Cincinnati USA</strong><br />\n8:15 - 8:30pm: Audience learning of &ldquo\;Take What You Need&rdquo\; by Reena Esmail to be performed on 10.25 as a community chorus</p>\n</div>\n</div>\n\n<div>&nbsp\;</div>\n
LOCATION:Hellmann Creative Center\, 321 MLK Jr. Blvd\, Covington\, KY 41011
UID:e.818.19144
SEQUENCE:3
DTSTAMP:20260420T214028Z
URL:https://business.hispanicchambercincinnati.com/events/details/we-are-one-hope-greater-cincinnati-a-home-for-all-19144
END:VEVENT

END:VCALENDAR
