BEGIN:VCALENDAR
VERSION:2.0
PRODID:-//ChamberMaster//Event Calendar 2.0//EN
METHOD:PUBLISH
X-PUBLISHED-TTL:P3D
REFRESH-INTERVAL:P3D
CALSCALE:GREGORIAN
BEGIN:VEVENT
DTSTART:20240928T140000Z
DTEND:20240928T190000Z
X-MICROSOFT-CDO-ALLDAYEVENT:FALSE
SUMMARY:We're hosting a MetroNow! and Access Operator Career Fair!
DESCRIPTION:Metro is hosting an Access and MetroNow! Career Fair to hire operators for these growing services. Individuals who are passionate about providing exceptional customer service and want to positively impact their community are encouraged to attend. \n\n\n\nWhen: Saturday\, September 28\, 2024 | 10:00 a.m.   3 p.m. \n\nWhere: Access and MetroNow! Garage | 1801 Transpark Drive\, Cincinnati\, Ohio 45229\n\n\n\nAttendees will have the opportunity to meet with Metro representatives\, apply\, interview\, and learn more about the benefits of working at Metro. Additionally\, attendees will have the chance to speak with current employees\, and gain valuable insights into the day-to-day responsibilities of the role. As a Metro team member\, you will play a vital role in ensuring Metro's passengers' safe and efficient transportation. \n\n\n\nMetroNow! and Access operators receive comprehensive health and dental benefits\, OPERS retirement benefits\, and free transportation passes for spouses and dependents on Metro fixed routes. \n\n\n\nCDLS's are not required to operate either service.
X-ALT-DESC;FMTTYPE=text/html:Metro is hosting an Access and MetroNow! Career Fair to hire operators for these growing services. Individuals who are passionate about providing exceptional customer service and want to positively impact their community are encouraged to attend.&nbsp\;<br />\n<br />\nWhen:&nbsp\;Saturday\, September 28\, 2024 | 10:00 a.m. &ndash\; 3 p.m.&nbsp\;<br />\nWhere:&nbsp\;Access and MetroNow! Garage | 1801 Transpark Drive\, Cincinnati\, Ohio 45229<br />\n<br />\nAttendees will have the opportunity to meet with Metro representatives\, apply\, interview\, and learn more about the benefits of working at Metro. Additionally\, attendees will have the chance to speak with current employees\, and gain valuable insights into the day-to-day responsibilities of the role. As a Metro team member\, you will play a vital role in ensuring Metro&#39\;s passengers&#39\; safe and efficient transportation.&nbsp\;<br />\n<br />\nMetroNow! and Access operators receive comprehensive health and dental benefits\, OPERS retirement benefits\, and free transportation passes for spouses and dependents on Metro fixed routes.&nbsp\;<br />\n<br />\nCDLS&rsquo\;s are not required to operate either service.
LOCATION:
UID:e.818.20187
SEQUENCE:3
DTSTAMP:20260420T143052Z
URL:https://business.hispanicchambercincinnati.com/events/details/we-re-hosting-a-metronow-and-access-operator-career-fair-20187
END:VEVENT

END:VCALENDAR
