BEGIN:VCALENDAR
VERSION:2.0
PRODID:-//ChamberMaster//Event Calendar 2.0//EN
METHOD:PUBLISH
X-PUBLISHED-TTL:P3D
REFRESH-INTERVAL:P3D
CALSCALE:GREGORIAN
BEGIN:VEVENT
DTSTART:20250227T150000Z
DTEND:20250227T170000Z
X-MICROSOFT-CDO-ALLDAYEVENT:FALSE
SUMMARY:Welcome to the Ecosystem
DESCRIPTION:Join us at Welcome to the Ecosystem   Your Door to Connections\, Resources\, and Success in the StartupCincy Ecosystem! \n\n Are you new to the Cincinnati startup ecosystem? Looking to find your way around the resources\, organizations\, and programs that power StartupCincy? This is your chance to connect with the key players shaping our entrepreneurial community.\n\n StartupCincy organizations will showcase their resources\, events\, and programs through presentations and tabling opportunities. Whether you're a founder\, an aspiring entrepreneur\, or just curious about what Cincinnati has to offer\, this event will equip you with the connections and tools you need to thrive.\n\n Don't miss this opportunity to plug into the heart of Cincinnati innovation!
X-ALT-DESC;FMTTYPE=text/html:<p>Join us at Welcome to the Ecosystem &mdash\; Your Door to Connections\, Resources\, and Success in the StartupCincy Ecosystem!&nbsp\;</p>\n\n<p>&#8203\;Are you new to the Cincinnati startup ecosystem? Looking to find your way around the resources\, organizations\, and programs that power StartupCincy? This is your chance to connect with the key players shaping our entrepreneurial community.</p>\n\n<p>&#8203\;StartupCincy organizations will showcase their resources\, events\, and programs through presentations and tabling opportunities. Whether you&rsquo\;re a founder\, an aspiring entrepreneur\, or just curious about what Cincinnati has to offer\, this event will equip you with the connections and tools you need to thrive.</p>\n\n<p>&#8203\;Don&rsquo\;t miss this opportunity to plug into the heart of Cincinnati innovation!</p>\n
LOCATION:Union Hall 1311 Vine St\, Cincinnati\, OH 45202\, USA
UID:e.818.21248
SEQUENCE:3
DTSTAMP:20260426T012038Z
URL:https://business.hispanicchambercincinnati.com/events/details/welcome-to-the-ecosystem-21248
END:VEVENT

END:VCALENDAR
