BEGIN:VCALENDAR
VERSION:2.0
PRODID:-//ChamberMaster//Event Calendar 2.0//EN
METHOD:PUBLISH
X-PUBLISHED-TTL:P3D
REFRESH-INTERVAL:P3D
CALSCALE:GREGORIAN
BEGIN:VEVENT
DTSTART:20250308T000000Z
DTEND:20250308T030000Z
X-MICROSOFT-CDO-ALLDAYEVENT:FALSE
SUMMARY:Whim W'him
DESCRIPTION:Virtuosic Seattle company Whim W'him comes to Cincinnati for the first time as guest of Mutual Dance Theatre. \n\nLed by Belgian Olivier Wevers whose career began with the Royal Winnipeg Ballet and Pacific Northwest Ballet Whim W'him performs virtuosic and visually rich work by both Wevers and prominent guest artists.\n\nThe performance will include ASL interpretation on Friday\, March 7. \n\nPARENTAL WARNING: There will be brief exposed buttocks of a performer wearing a thong.\n\nADDITIONAL EVENTS\n\n\n	Friday\, March 7\, 2025: post-show Q&A\n	Saturday\, March 8\, 2025\, 7pm: pre-show interview with the Artistic Directors of Whim W'him (Olivier Wevers) and Mutual Dance Theatre (Jeanne Mam-Luft)\n	Saturday\, March 8\, 2025: Off-site masterclass with Whim W'him.\n\n\nFor more information\, visit mutualdance.org/whimwhim.
X-ALT-DESC;FMTTYPE=text/html:<p>Virtuosic Seattle company Whim W&#39\;him&nbsp\;comes to Cincinnati for the first time as guest of Mutual Dance Theatre.&nbsp\;</p>\n\n<p>Led by Belgian Olivier Wevers&mdash\;whose career began with the Royal Winnipeg Ballet and Pacific Northwest Ballet&mdash\;Whim W&rsquo\;him performs virtuosic and visually rich work by both Wevers and prominent guest artists.</p>\n\n<p>The performance will include ASL interpretation on Friday\, March 7.&nbsp\;</p>\n\n<p>PARENTAL WARNING: There will be brief exposed buttocks of a performer wearing a thong.</p>\n\n<p dir="ltr">ADDITIONAL EVENTS</p>\n\n<ul dir="ltr">\n	<li>Friday\, March 7\, 2025: post-show Q&amp\;A</li>\n	<li>Saturday\, March 8\, 2025\, 7pm: pre-show interview with the Artistic Directors of Whim W&#39\;him (Olivier Wevers) and Mutual Dance Theatre (Jeanne Mam-Luft)</li>\n	<li>Saturday\, March 8\, 2025: Off-site masterclass with Whim W&#39\;him.</li>\n</ul>\n\n<p dir="ltr">For more information\, visit&nbsp\;<a href="https://www.mutualdance.org/archive/2024-2025/whimwhim/">mutualdance.org/whimwhim</a>.&nbsp\;</p>\n
LOCATION:Aronoff Center Jarson-Kaplan Theater
UID:e.818.21256
SEQUENCE:3
DTSTAMP:20260423T124314Z
URL:https://business.hispanicchambercincinnati.com/events/details/whim-w-him-21256
END:VEVENT

END:VCALENDAR
