BEGIN:VCALENDAR
VERSION:2.0
PRODID:-//ChamberMaster//Event Calendar 2.0//EN
METHOD:PUBLISH
X-PUBLISHED-TTL:P3D
REFRESH-INTERVAL:P3D
CALSCALE:GREGORIAN
BEGIN:VEVENT
DTSTART:20230623T160000Z
DTEND:20230623T210000Z
X-MICROSOFT-CDO-ALLDAYEVENT:FALSE
SUMMARY:Workforce Development Day
DESCRIPTION:Join us for a half day full of checking off the boxes on your to-do list! This event is designed to empower and support job seekers as they look to find the next right fit. Each attendee will set their own agenda!\n\nSessions available will include:\n\n	LinkedIn & Resume Reviews\n	Pitch Workshop\n	Networking\n	Headshots\n	Recruiter Panel\n\n\n\nTicket Prices:\n\n$ 5 for members of any of the three host organizations\n\n$ 10 for future members\n\nLunch Provided\n\n\n\nAbout AACC:\n\nOur mission here at the Greater Cincinnati & Northern Kentucky African American Chamber of Commerce (AACC) is to advocate for Black-owned businesses by establishing\, cultivating\, and strengthening consumer and business relationships.\n\nL earn more: Greater Cincinnati & Northern Kentucky African American Chamber of Commerce\n\n\n\nAbout HCCUSA:\n\nOur mission is to promote the creation\, sustainable growth\, and development of the Hispanic/Latino business community in the Cincinnati Tri-State area as well as to link our Hispanic professionals with the best job opportunities to foster their professional and personal growth.\n\nL earn more: Hispanic Chamber Cincinnati USA\n\n\n\nAbout AMA Cincinnati:\n\nWe provide opportunities for Marketers and related professionals across industries\, businesses\, functions\, and career levels to learn\, teach\, job search\, recruit\, network\, promote\, contribute\, and practice.\n\nL earn more: AMACincinnati.org
X-ALT-DESC;FMTTYPE=text/html:Join us for a half day full of checking off the boxes on your to-do list! This event is designed to empower and support job seekers as they look to find the next right fit. Each attendee will set their own agenda!<br />\nSessions available will include:\n<ul>\n	<li>LinkedIn &amp\; Resume Reviews</li>\n	<li>Pitch Workshop</li>\n	<li>Networking</li>\n	<li>Headshots</li>\n	<li>Recruiter Panel</li>\n</ul>\n<br />\n<strong>Ticket Prices:</strong><br />\n$ 5 for members of any of the three host organizations<br />\n$ 10 for future members<br />\nLunch Provided<br />\n<br />\n<strong>About AACC:</strong><br />\nOur mission here at the Greater Cincinnati &amp\; Northern Kentucky African American Chamber of Commerce (AACC) is to advocate for Black-owned businesses by establishing\, cultivating\, and strengthening consumer and business relationships.<br />\nL earn more: Greater Cincinnati &amp\; Northern Kentucky African American Chamber of Commerce<br />\n<br />\n<strong>About HCCUSA:</strong><br />\nOur mission is to promote the creation\, sustainable growth\, and development of the Hispanic/Latino business community in the Cincinnati Tri-State area as well as to link our Hispanic professionals with the best job opportunities to foster their professional and personal growth.<br />\nL earn more: Hispanic Chamber Cincinnati USA<br />\n<br />\n<strong>About AMA Cincinnati:</strong><br />\nWe provide opportunities for Marketers and related professionals across industries\, businesses\, functions\, and career levels to learn\, teach\, job search\, recruit\, network\, promote\, contribute\, and practice.<br />\nL earn more: AMACincinnati.org
LOCATION:Greater Cincinnati Foundation 720 E. Pete Rose Way\, #120 Cincinnati\, OH 45202
UID:e.818.18800
SEQUENCE:3
DTSTAMP:20260421T050807Z
URL:https://business.hispanicchambercincinnati.com/events/details/workforce-development-day-18800
END:VEVENT

END:VCALENDAR
