BEGIN:VCALENDAR
VERSION:2.0
PRODID:-//ChamberMaster//Event Calendar 2.0//EN
METHOD:PUBLISH
X-PUBLISHED-TTL:P3D
REFRESH-INTERVAL:P3D
CALSCALE:GREGORIAN
BEGIN:VEVENT
DTSTART:20230620T220000Z
DTEND:20230621T010000Z
X-MICROSOFT-CDO-ALLDAYEVENT:FALSE
SUMMARY:World Refugee Day
DESCRIPTION:Every year on June 20th the world recognizes the more than 32.5 million refugees who have been forced to flee their countries due to persecution and conflict. Locally\, IRLC celebrates the many refugees that we work with from around the globe for their resilience in rebuilding their lives in the Greater Cincinnati area\, and thanks them for all that they contribute to our community. Streetside Brewery is partnering with IRLC for a fundraiser and a "Get to Know IRLC" evening. Join the IRLC team to learn more.
X-ALT-DESC;FMTTYPE=text/html:Every year on June 20th the world recognizes the more than 32.5 million refugees who have been forced to flee their countries due to persecution and conflict. Locally\, IRLC celebrates the many refugees that we work with from around the globe for their resilience in rebuilding their lives in the Greater Cincinnati area\, and thanks them for all that they contribute to our community. Streetside Brewery is partnering with IRLC for a fundraiser and a &quot\;Get to Know IRLC&quot\; evening. Join the IRLC team to learn more.
LOCATION:Streetside Brewery 4003 Eastern Ave\, Cincinnati\, OH\, United States\, Ohio
UID:e.818.18991
SEQUENCE:3
DTSTAMP:20260421T084754Z
URL:https://business.hispanicchambercincinnati.com/events/details/world-refugee-day-18991
END:VEVENT

END:VCALENDAR
