BEGIN:VCALENDAR
VERSION:2.0
PRODID:-//ChamberMaster//Event Calendar 2.0//EN
METHOD:PUBLISH
X-PUBLISHED-TTL:P3D
REFRESH-INTERVAL:P3D
CALSCALE:GREGORIAN
BEGIN:VEVENT
DTSTART:20240425T213000Z
DTEND:20240427T000000Z
X-MICROSOFT-CDO-ALLDAYEVENT:FALSE
SUMMARY:Young Professional Headshot Happy Hour Event
DESCRIPTION:Happy Hour Event\n\nProfessional Headshots sponsored by Shawndale Thomas Photography LTD\n\n\n\nThursday April 25th\, 2024
X-ALT-DESC;FMTTYPE=text/html:<br />\n<br />\nHappy Hour Event<br />\nProfessional Headshots sponsored by Shawndale Thomas Photography LTD<br />\n<br />\nThursday April 25th\, 2024
LOCATION:Knox Joseph Distillery at the OTR StillHouse 2017 Branch Street Cincinnati\, OH 45214
UID:e.818.19882
SEQUENCE:3
DTSTAMP:20260421T161940Z
URL:https://business.hispanicchambercincinnati.com/events/details/young-professional-headshot-happy-hour-event-19882
END:VEVENT

END:VCALENDAR
